BEGIN:VCALENDAR
VERSION:2.0
PRODID:-//Gun Calendars - ECPv6.6.2//NONSGML v1.0//EN
CALSCALE:GREGORIAN
METHOD:PUBLISH
X-WR-CALNAME:Gun Calendars
X-ORIGINAL-URL:https://guncalendars.com
X-WR-CALDESC:Events for Gun Calendars
REFRESH-INTERVAL;VALUE=DURATION:PT1H
X-Robots-Tag:noindex
X-PUBLISHED-TTL:PT1H
BEGIN:VTIMEZONE
TZID:UTC
BEGIN:STANDARD
TZOFFSETFROM:+0000
TZOFFSETTO:+0000
TZNAME:UTC
DTSTART:20220101T000000
END:STANDARD
END:VTIMEZONE
BEGIN:VEVENT
DTSTART;VALUE=DATE:20220930
DTEND;VALUE=DATE:20221001
DTSTAMP:20260423T200907
CREATED:20180529T103538Z
LAST-MODIFIED:20200406T042748Z
UID:8237-1664496000-1664582399@guncalendars.com
SUMMARY:Arizona CCW in Bars (2009)
DESCRIPTION:Sep 30\, 2009 In Arizona a new law took effect allowing people with concealed weapons permits to enter bars and restaurants\, that haven’t posted signs banning guns.\nThose carrying weapons would not be allowed to drink alcohol. \n#ArizonaLife #AZguns #ArizonaLaws \n\nhttps://www.instagram.com/p/BK_X5NBj2w-/?taken-by=gunwebsites
URL:https://guncalendars.com/event/arizona-ccw-in-bars-2009-4-3/
CATEGORIES:Firearms Laws
END:VEVENT
BEGIN:VEVENT
DTSTART;VALUE=DATE:20220930
DTEND;VALUE=DATE:20221001
DTSTAMP:20260423T200907
CREATED:20180530T025921Z
LAST-MODIFIED:20210910T104921Z
UID:9295-1664496000-1664582399@guncalendars.com
SUMMARY:Lautenberg Amendment
DESCRIPTION:The Domestic Violence Offender Gun Ban\,\n\nSeptember 30\, 1996\n1996 Enacted by the 104th United States Congress\nbans access to firearms by people convicted of crimes of domestic violence\ncalled “the Lautenberg Amendment”\nsponsored by Senator Frank Lautenberg (D – NJ).\n“Gun Ban for Individuals Convicted of a Misdemeanor Crime of Domestic Violence”\nPub.L. 104–208\, 18 U.S.C. § 922(g)(9))\nAmendment to the Omnibus Consolidated Appropriations Act of 1997
URL:https://guncalendars.com/event/lautenberg-amendment-3/
CATEGORIES:Firearms Laws
END:VEVENT
END:VCALENDAR