BEGIN:VCALENDAR
VERSION:2.0
PRODID:-//Gun Calendars - ECPv6.6.2//NONSGML v1.0//EN
CALSCALE:GREGORIAN
METHOD:PUBLISH
X-ORIGINAL-URL:https://guncalendars.com
X-WR-CALDESC:Events for Gun Calendars
REFRESH-INTERVAL;VALUE=DURATION:PT1H
X-Robots-Tag:noindex
X-PUBLISHED-TTL:PT1H
BEGIN:VTIMEZONE
TZID:UTC
BEGIN:STANDARD
TZOFFSETFROM:+0000
TZOFFSETTO:+0000
TZNAME:UTC
DTSTART:20230101T000000
END:STANDARD
END:VTIMEZONE
BEGIN:VEVENT
DTSTART;VALUE=DATE:20230910
DTEND;VALUE=DATE:20230911
DTSTAMP:20260422T080739
CREATED:20180529T103608Z
LAST-MODIFIED:20220831T032135Z
UID:9897-1694304000-1694390399@guncalendars.com
SUMMARY:Colorado Voters removed Democrats who Support of Gun Control (2013)
DESCRIPTION:Sept. 10\, 2013 Colorado voters removed from public office Democrats John Morse & Angela Giron\, for their support of gun-control laws that mandated background checks on private gun sales and limited magazines to 15 rounds.\nNever forget just WHO has real the power and why ‘they’ work so hard to attempt to make us loose focus on this… Always be vigilant in defense of liberty\n#GoodOnColorado\n#FreedomIsntFree \n\nhttps://www.instagram.com/p/7dJEpXKhVb/?taken-by=gunwebsites \n  \n 
URL:https://guncalendars.com/event/colorado-voters-removed-democrats-who-support-of-gun-control-2013-4-3-3/
CATEGORIES:Firearms Laws
END:VEVENT
BEGIN:VEVENT
DTSTART;VALUE=DATE:20230913
DTEND;VALUE=DATE:20230914
DTSTAMP:20260422T080739
CREATED:20180529T103543Z
LAST-MODIFIED:20210910T103617Z
UID:9255-1694563200-1694649599@guncalendars.com
SUMMARY:Assault Weapons Ban & Sunset (1994 - 2004)
DESCRIPTION:Anniversary of the AWB SunsetSept 13\, 1994 – Sept 13\, 2004 \n#AWB\n#AssaultWeaponsBan\n#unjustlaw #CompromiseThis\n#ItFailedBecauseItsBad \n\nhttps://www.instagram.com/p/BKTWHhZgrZ8/?taken-by=gunwebsites
URL:https://guncalendars.com/event/assault-weapons-ban-sunset-1994-2004-5-4/
CATEGORIES:Firearms Laws
ATTACH;FMTTYPE=image/jpeg:https://guncalendars.com/wp-content/uploads/2017/08/IMG_20160913_090913.jpg
END:VEVENT
BEGIN:VEVENT
DTSTART;VALUE=DATE:20230914
DTEND;VALUE=DATE:20230915
DTSTAMP:20260422T080739
CREATED:20180529T103541Z
LAST-MODIFIED:20210910T103731Z
UID:9261-1694649600-1694735999@guncalendars.com
SUMMARY:Missouri Constitutional Carry (2016)
DESCRIPTION:Constitutional Carry in Missouri SEPTEMBER 14\, 2016 \n\nhttps://www.instagram.com/p/BKXPI_XAb2M/?taken-by=gunwebsites \n 
URL:https://guncalendars.com/event/missouri-constitutional-carry-2016-4-4/
CATEGORIES:Firearms Laws
END:VEVENT
BEGIN:VEVENT
DTSTART;VALUE=DATE:20230930
DTEND;VALUE=DATE:20231001
DTSTAMP:20260422T080739
CREATED:20180530T025921Z
LAST-MODIFIED:20210910T104933Z
UID:9296-1696032000-1696118399@guncalendars.com
SUMMARY:Lautenberg Amendment
DESCRIPTION:The Domestic Violence Offender Gun Ban\,\n\nSeptember 30\, 1996\n1996 Enacted by the 104th United States Congress\nbans access to firearms by people convicted of crimes of domestic violence\ncalled “the Lautenberg Amendment”\nsponsored by Senator Frank Lautenberg (D – NJ).\n“Gun Ban for Individuals Convicted of a Misdemeanor Crime of Domestic Violence”\nPub.L. 104–208\, 18 U.S.C. § 922(g)(9))\nAmendment to the Omnibus Consolidated Appropriations Act of 1997
URL:https://guncalendars.com/event/lautenberg-amendment-4/
CATEGORIES:Firearms Laws
END:VEVENT
END:VCALENDAR