BEGIN:VCALENDAR
VERSION:2.0
PRODID:-//Gun Calendars - ECPv6.6.2//NONSGML v1.0//EN
CALSCALE:GREGORIAN
METHOD:PUBLISH
X-ORIGINAL-URL:https://guncalendars.com
X-WR-CALDESC:Events for Gun Calendars
REFRESH-INTERVAL;VALUE=DURATION:PT1H
X-Robots-Tag:noindex
X-PUBLISHED-TTL:PT1H
BEGIN:VTIMEZONE
TZID:UTC
BEGIN:STANDARD
TZOFFSETFROM:+0000
TZOFFSETTO:+0000
TZNAME:UTC
DTSTART:20230101T000000
END:STANDARD
END:VTIMEZONE
BEGIN:VEVENT
DTSTART;VALUE=DATE:20230801
DTEND;VALUE=DATE:20230802
DTSTAMP:20260422T150140
CREATED:20201101T165426Z
LAST-MODIFIED:20220805T091643Z
UID:9708-1690848000-1690934399@guncalendars.com
SUMMARY:North Dakota passes Constitutional Carry
DESCRIPTION:North Dakota passes Constitutional Carry\nAug 1\, 2017 \n \n 
URL:https://guncalendars.com/event/ok-passes-constitutional-carry-2-2/
CATEGORIES:Anniversary,Firearms Laws
ATTACH;FMTTYPE=image/png:https://guncalendars.com/wp-content/uploads/2020/11/State-Icons-North-Dakota.png
END:VEVENT
BEGIN:VEVENT
DTSTART;VALUE=DATE:20230831
DTEND;VALUE=DATE:20230901
DTSTAMP:20260422T150140
CREATED:19110901T042523Z
LAST-MODIFIED:20210802T214949Z
UID:9211-1693440000-1693526399@guncalendars.com
SUMMARY:Sullivan Law (1st CCW Law) signed 1911
DESCRIPTION:Aug 31\, 1911 \n\nSullivan Law (1st CCW Law) signed\n a gun control law in New York city\ncorrupt politicians created laws to use against their rivals\n required licenses for New Yorkers to possess firearms small enough to be concealed\n– possession of such firearms without a license was a misdemeanor\n– carrying them in public was a felony
URL:https://guncalendars.com/event/sullivan-law-1st-ccw-law-signed-1911-4/
CATEGORIES:Firearms Laws
ATTACH;FMTTYPE=image/jpeg:https://guncalendars.com/wp-content/uploads/1911/08/Aug-31-Sullivan-Law-2.jpg
END:VEVENT
END:VCALENDAR