BEGIN:VCALENDAR
VERSION:2.0
PRODID:-//Gun Calendars - ECPv6.6.2//NONSGML v1.0//EN
CALSCALE:GREGORIAN
METHOD:PUBLISH
X-WR-CALNAME:Gun Calendars
X-ORIGINAL-URL:https://guncalendars.com
X-WR-CALDESC:Events for Gun Calendars
REFRESH-INTERVAL;VALUE=DURATION:PT1H
X-Robots-Tag:noindex
X-PUBLISHED-TTL:PT1H
BEGIN:VTIMEZONE
TZID:UTC
BEGIN:STANDARD
TZOFFSETFROM:+0000
TZOFFSETTO:+0000
TZNAME:UTC
DTSTART:20220101T000000
END:STANDARD
END:VTIMEZONE
BEGIN:VEVENT
DTSTART;VALUE=DATE:20221001
DTEND;VALUE=DATE:20221002
DTSTAMP:20260423T200330
CREATED:20190409T135432Z
LAST-MODIFIED:20201002T083813Z
UID:8617-1664582400-1664668799@guncalendars.com
SUMMARY:Montana Firearms Freedom Act became effective
DESCRIPTION:Montana Firearms Freedom Act \na state statute that sought to exempt firearms manufactured in Montana from federal regulation under the interstate commerce and supremacy clauses of the United States Constitution \nDeclares that firearms manufactured in the state of Montana after October 1\, 2009\, and which remain in the state\, are exempt from United States federal firearms regulations \n \n\nThese items are to be clearly stamped “Made in Montana” on a central metallic part.\nIt applies to all firearms other than fully automatic weapons\nIt also applies to ammunition (except exploding projectiles)\nIt also applies to accessories such as suppressors.\nThe law has no requirements for registration\, background checks or dealer licensing\n\nheld invalid by Federal courts \n 
URL:https://guncalendars.com/event/montana-firearms-freedom-act-3-4/
CATEGORIES:Firearms Laws,US Gun History
ATTACH;FMTTYPE=image/png:https://guncalendars.com/wp-content/uploads/2019/04/1200px-Flag_of_Montana.svg_.png
END:VEVENT
BEGIN:VEVENT
DTSTART;VALUE=DATE:20221001
DTEND;VALUE=DATE:20221002
DTSTAMP:20260423T200330
CREATED:20200307T191556Z
LAST-MODIFIED:20200307T191942Z
UID:7965-1664582400-1664668799@guncalendars.com
SUMMARY:Alabama Hunting with a Suppressor decriminalized in 2014
DESCRIPTION:Alabama lifted restrictions on suppressors for hunting \nOctober 1\, 2014
URL:https://guncalendars.com/event/alabama-with-a-suppressor-decriminalized-in-2014-3/
CATEGORIES:Firearms Laws
ATTACH;FMTTYPE=image/jpeg:https://guncalendars.com/wp-content/uploads/2020/03/Alabama.jpg
END:VEVENT
BEGIN:VEVENT
DTSTART;VALUE=DATE:20221011
DTEND;VALUE=DATE:20221012
DTSTAMP:20260423T200330
CREATED:20201002T090540Z
LAST-MODIFIED:20201002T090715Z
UID:8633-1665446400-1665532799@guncalendars.com
SUMMARY:Missouri ends prohibition on Open Carry
DESCRIPTION:Oct 11\, 2014 \nstatewide gun rights legislation that protects and expands lawful open carry in Missouri passed into law \nState Lawaasafter overcoming the governor’s veto
URL:https://guncalendars.com/event/missouri-ends-prohibition-on-open-carry-3/
CATEGORIES:Firearms Laws
ATTACH;FMTTYPE=image/png:https://guncalendars.com/wp-content/uploads/2020/10/State-Icons-Missouri.png
END:VEVENT
BEGIN:VEVENT
DTSTART;VALUE=DATE:20221015
DTEND;VALUE=DATE:20221016
DTSTAMP:20260423T200330
CREATED:20200307T191556Z
LAST-MODIFIED:20200307T193400Z
UID:8004-1665792000-1665878399@guncalendars.com
SUMMARY:Maine Hunting with a Suppressor decriminalized in 2015
DESCRIPTION:Maine lifted restrictions on suppressors for hunting \nOct 15\, 2015 \nMaine became the 37th state to stop prohibiting Suppressors for Hunting
URL:https://guncalendars.com/event/alabama-with-a-suppressor-decriminalized-in-2014-3-4-4/
CATEGORIES:Firearms Laws
ATTACH;FMTTYPE=image/jpeg:https://guncalendars.com/wp-content/uploads/2020/03/Maine.jpg
END:VEVENT
BEGIN:VEVENT
DTSTART;VALUE=DATE:20221015
DTEND;VALUE=DATE:20221016
DTSTAMP:20260423T200330
CREATED:20200307T191556Z
LAST-MODIFIED:20201002T091607Z
UID:8642-1665792000-1665878399@guncalendars.com
SUMMARY:Maine constitutional carry
DESCRIPTION:Maine constitutional carry \nOct 15\, 2015 \nMaine became the 7th state have constitutional carry
URL:https://guncalendars.com/event/alabama-with-a-suppressor-decriminalized-in-2014-3-4-4-11-3/
CATEGORIES:Firearms Laws
ATTACH;FMTTYPE=image/png:https://guncalendars.com/wp-content/uploads/2020/03/State-Icons-Maine.png
END:VEVENT
BEGIN:VEVENT
DTSTART;VALUE=DATE:20221017
DTEND;VALUE=DATE:20221018
DTSTAMP:20260423T200330
CREATED:20201002T092034Z
LAST-MODIFIED:20201002T092113Z
UID:8648-1665964800-1666051199@guncalendars.com
SUMMARY:Arkansas passes Constitutional Carry
DESCRIPTION:Arkansas passes Constitutional Carry \nOct 17\, 2018 \nArkansas was the 13th state to pass Constitutional Carry
URL:https://guncalendars.com/event/arkansas-passes-constitutional-carry-3/
CATEGORIES:Firearms Laws
ATTACH;FMTTYPE=image/png:https://guncalendars.com/wp-content/uploads/2020/10/State-Icons-Arkansas.png
END:VEVENT
END:VCALENDAR