BEGIN:VCALENDAR
VERSION:2.0
PRODID:-//Gun Calendars - ECPv6.6.2//NONSGML v1.0//EN
CALSCALE:GREGORIAN
METHOD:PUBLISH
X-WR-CALNAME:Gun Calendars
X-ORIGINAL-URL:https://guncalendars.com
X-WR-CALDESC:Events for Gun Calendars
REFRESH-INTERVAL;VALUE=DURATION:PT1H
X-Robots-Tag:noindex
X-PUBLISHED-TTL:PT1H
BEGIN:VTIMEZONE
TZID:UTC
BEGIN:STANDARD
TZOFFSETFROM:+0000
TZOFFSETTO:+0000
TZNAME:UTC
DTSTART:20210101T000000
END:STANDARD
END:VTIMEZONE
BEGIN:VEVENT
DTSTART;VALUE=DATE:20210217
DTEND;VALUE=DATE:20210218
DTSTAMP:20260420T212356
CREATED:20180529T103548Z
LAST-MODIFIED:20191226T164135Z
UID:7464-1613520000-1613606399@guncalendars.com
SUMMARY:Hiram Percy Maxim (66) Died
DESCRIPTION:Hiram Percy MaximSept 2\, 1869 – Feb 17\, 1936 \nage 66 \n* He was the son of Sir Hiram Stevens Maxim\, inventor of the Maxim Machine gun \n\n\nHiram Percy Maxim patented a suppressor for firearms in 1908 Also invented a muffler for gasoline engines.\nMaxim created the ARRL in 1914 to pass messages via amateur radio\, allowing them to travel farther than any single station’s reach.\nMaxim founded the Amateur Cinema League in 1926#Suppressor #StopTheNoise #QuietLife #CanLifestyle\n\n\nhttps://www.instagram.com/p/BJ3FxzSg_79/?taken-by=gunwebsites
URL:https://guncalendars.com/event/hiram-percy-maxim-66-died-4-3/
CATEGORIES:Firearms Inventor
ATTACH;FMTTYPE=image/png:https://guncalendars.com/wp-content/uploads/2017/08/Maxum.png
END:VEVENT
BEGIN:VEVENT
DTSTART;VALUE=DATE:20210217
DTEND;VALUE=DATE:20210218
DTSTAMP:20260420T212356
CREATED:20190131T075009Z
LAST-MODIFIED:20190131T075202Z
UID:6492-1613520000-1613606399@guncalendars.com
SUMMARY:Maxwell Atchisson - Born
DESCRIPTION:Feb 17\, 1930 – Feb 15\, 2003 \nMaxwell G. Atchisson – (73) \n\nAA12 (Atchisson Assault 12)\,\nLightning Link\,\n1972 – .22 caliber conversion kit for the AR-15\ngranted twenty-four patents\n\nne Gun
URL:https://guncalendars.com/event/maxwell-atchisson-died-73-3-2/
CATEGORIES:Firearms Inventor
ATTACH;FMTTYPE=image/jpeg:https://guncalendars.com/wp-content/uploads/2018/07/Gun-Inventors-Clubs-13-King-Maxwell-Atchisson.jpg
END:VEVENT
END:VCALENDAR