BEGIN:VCALENDAR
VERSION:2.0
PRODID:-//Gun Calendars - ECPv6.6.2//NONSGML v1.0//EN
CALSCALE:GREGORIAN
METHOD:PUBLISH
X-ORIGINAL-URL:https://guncalendars.com
X-WR-CALDESC:Events for Gun Calendars
REFRESH-INTERVAL;VALUE=DURATION:PT1H
X-Robots-Tag:noindex
X-PUBLISHED-TTL:PT1H
BEGIN:VTIMEZONE
TZID:UTC
BEGIN:STANDARD
TZOFFSETFROM:+0000
TZOFFSETTO:+0000
TZNAME:UTC
DTSTART:20210101T000000
END:STANDARD
END:VTIMEZONE
BEGIN:VEVENT
DTSTART;VALUE=DATE:20210306
DTEND;VALUE=DATE:20210307
DTSTAMP:20260420T073311
CREATED:20180529T103454Z
LAST-MODIFIED:20191226T172817Z
UID:7522-1614988800-1615075199@guncalendars.com
SUMMARY:Georg Luger (74) Born
DESCRIPTION:Georg Johann LugerMarch 6\, 1849 – Dec 22\, 1923\nDesigned of the Luger pistol and the 9×19mm Parabellum cartridge. \n#GunHistory\n#9mm #Luger \n\nhttps://www.instagram.com/p/BRT5EAvApgg/?taken-by=gunwebsites
URL:https://guncalendars.com/event/georg-luger-74-born-4-3/
CATEGORIES:Firearms Inventor
ATTACH;FMTTYPE=image/jpeg:https://guncalendars.com/wp-content/uploads/2018/07/Gun-Inventors-Diamonds-05-Georg-Luger.jpg
END:VEVENT
BEGIN:VEVENT
DTSTART;VALUE=DATE:20210306
DTEND;VALUE=DATE:20210307
DTSTAMP:20260420T073311
CREATED:20190304T140336Z
LAST-MODIFIED:20190304T142400Z
UID:6668-1614988800-1615075199@guncalendars.com
SUMMARY:Fedor Tokarev – Died (96)
DESCRIPTION:June 14\, 1871 – March 6\, 1968 \nFedor Tokarev – Died (96) \ndesigner of the \n\nTokarev TT-30 pistol\nTT-33 pistol\nTokarev SVT-38 rifle\nSVT-40  rifle
URL:https://guncalendars.com/event/georg-luger-born-3/
CATEGORIES:Firearms Inventor
ATTACH;FMTTYPE=image/jpeg:https://guncalendars.com/wp-content/uploads/2019/03/DCVmOE9VwAA1t3-.jpg
END:VEVENT
BEGIN:VEVENT
DTSTART;VALUE=DATE:20210308
DTEND;VALUE=DATE:20210309
DTSTAMP:20260420T073311
CREATED:20190131T054953Z
LAST-MODIFIED:20190131T060201Z
UID:6462-1615161600-1615247999@guncalendars.com
SUMMARY:Elmer Keith – Born
DESCRIPTION:Elmer Keith – Born \nElmer Keith\n– March 8\, 1899 – February 14\, 1984 (85)\n– During World War II\, was an inspector at the Ogden\, Utah Arsenal\n– Rifles that he inspected are cartouche stamped with the initials “OGEK” in a rectangular box \nCreator of the: \n\n1935 – .357 Magnum cartridge\n1956 – .44 Magnum cartridge\n1963 – .41 Magnum cartridge\n\n1956 – Ruger Model 29 .44 Magnum single action Blackhawk revolver
URL:https://guncalendars.com/event/elmer-keith-died-4-3/
CATEGORIES:Author,Firearms Inventor
ATTACH;FMTTYPE=image/jpeg:https://guncalendars.com/wp-content/uploads/2019/01/elmer-keith.jpg
END:VEVENT
BEGIN:VEVENT
DTSTART;VALUE=DATE:20210309
DTEND;VALUE=DATE:20210310
DTSTAMP:20260420T073311
CREATED:20180529T103452Z
LAST-MODIFIED:20191226T173000Z
UID:7530-1615248000-1615334399@guncalendars.com
SUMMARY:Yisrael Galil (72) Died
DESCRIPTION:Yisrael GalilJan 1\, 1923 – Mar 9\, 1995 \nBest known for inventing the Galil rifle. He also helped create the Uzi \n#GunChannels\n#GunHistory\n#Galil #AK47\n#Uzi \n\nhttps://www.instagram.com/p/BRaeZRJgKnw/?taken-by=gunwebsites \nhttps://www.instagram.com/p/BCwpvQmqhXs/?taken-by=gunwebsites
URL:https://guncalendars.com/event/yisrael-galil-72-died-4-3/
CATEGORIES:Firearms Inventor
ATTACH;FMTTYPE=image/jpeg:https://guncalendars.com/wp-content/uploads/2017/08/IMG_20170309_104149_502.jpg
END:VEVENT
BEGIN:VEVENT
DTSTART;VALUE=DATE:20210319
DTEND;VALUE=DATE:20210320
DTSTAMP:20260420T073311
CREATED:20190602T160329Z
LAST-MODIFIED:20190602T160949Z
UID:6848-1616112000-1616198399@guncalendars.com
SUMMARY:Benjamin Tyler Henry (born)
DESCRIPTION:Benjamin Tyler Henry\nMarch 22\, 1821 – June 8\, 1898
URL:https://guncalendars.com/event/benjamin-tyler-henry-died-2-2-3/
CATEGORIES:Firearms Inventor
ATTACH;FMTTYPE=image/png:https://guncalendars.com/wp-content/uploads/2018/07/Gun-Inventors-Hearts-06-Benjamin-Henry.png
END:VEVENT
BEGIN:VEVENT
DTSTART;VALUE=DATE:20210321
DTEND;VALUE=DATE:20210322
DTSTAMP:20260420T073311
CREATED:20191226T175251Z
LAST-MODIFIED:20191226T175321Z
UID:7565-1616284800-1616371199@guncalendars.com
SUMMARY:Tom Deeb (Died)
DESCRIPTION:Tom Deeb – Died (65) \nSept 26\,1949 – March 21\, 2016 \n\n1973 to 1976  US Air Force during the Vietnam War\nFirearm Inventor\nProlific entrepreneur\n1993 Founded Hi Point Mansfield\, Ohio
URL:https://guncalendars.com/event/tom-deeb-died-2/
CATEGORIES:Firearms Inventor
ATTACH;FMTTYPE=image/jpeg:https://guncalendars.com/wp-content/uploads/2019/12/march-21-tom-deeb-hi-point.jpg
END:VEVENT
BEGIN:VEVENT
DTSTART;VALUE=DATE:20210322
DTEND;VALUE=DATE:20210323
DTSTAMP:20260420T073311
CREATED:20190602T140429Z
LAST-MODIFIED:20190602T141830Z
UID:6811-1616371200-1616457599@guncalendars.com
SUMMARY:Rollin White (Died)
DESCRIPTION:Rollin White (75) \nJune 6\, 1817 – March 22\, 1892
URL:https://guncalendars.com/event/rollin-white-3-2/
CATEGORIES:Firearms Inventor
ATTACH;FMTTYPE=image/jpeg:https://guncalendars.com/wp-content/uploads/2018/07/Gun-Inventors-Hearts-05-Rollin-White.jpg
END:VEVENT
BEGIN:VEVENT
DTSTART;VALUE=DATE:20210331
DTEND;VALUE=DATE:20210401
DTSTAMP:20260420T073311
CREATED:20180830T093405Z
LAST-MODIFIED:20180830T095609Z
UID:6171-1617148800-1617235199@guncalendars.com
SUMMARY:Hiram Berdan (Died)
DESCRIPTION:Hiram Berdan\nSept 6\, 1824 – March 31\, 1893 (59) \nMarch 20\, 1866 – Berdan centerfire primer
URL:https://guncalendars.com/event/hiram-berdan-born-4-3/
CATEGORIES:Firearms Inventor
ATTACH;FMTTYPE=image/jpeg:https://guncalendars.com/wp-content/uploads/2018/07/Gun-Inventors-Clubs-04-Hiram-Berdan.jpg
END:VEVENT
END:VCALENDAR