BEGIN:VCALENDAR
VERSION:2.0
PRODID:-//Gun Calendars - ECPv6.6.2//NONSGML v1.0//EN
CALSCALE:GREGORIAN
METHOD:PUBLISH
X-ORIGINAL-URL:https://guncalendars.com
X-WR-CALDESC:Events for Gun Calendars
REFRESH-INTERVAL;VALUE=DURATION:PT1H
X-Robots-Tag:noindex
X-PUBLISHED-TTL:PT1H
BEGIN:VTIMEZONE
TZID:UTC
BEGIN:STANDARD
TZOFFSETFROM:+0000
TZOFFSETTO:+0000
TZNAME:UTC
DTSTART:20200101T000000
END:STANDARD
END:VTIMEZONE
BEGIN:VEVENT
DTSTART;VALUE=DATE:20200701
DTEND;VALUE=DATE:20200702
DTSTAMP:20260422T155051
CREATED:20190624T111320Z
LAST-MODIFIED:20190624T112351Z
UID:7056-1593561600-1593647999@guncalendars.com
SUMMARY:John Marlin (died)
DESCRIPTION:May 6\, 1836 – July 1\, 1901 \nDuring the American Civil War – worked at the Colt plant in Hartford \n1863 – Starting making pistols in New Haven\, Connecticut \n1881 – lever-action repeating rifle \n  \nsons Mahlon Henry and John Howard took over the company after their father’s death in 1901
URL:https://guncalendars.com/event/john-marlin-born-3-2-2/
CATEGORIES:Firearms Inventor
END:VEVENT
BEGIN:VEVENT
DTSTART;VALUE=DATE:20200706
DTEND;VALUE=DATE:20200707
DTSTAMP:20260422T155051
CREATED:20180529T103408Z
LAST-MODIFIED:20190603T032443Z
UID:6923-1593993600-1594079999@guncalendars.com
SUMMARY:William Ruger (86) - Died
DESCRIPTION:William RugerBorn June 21\, 1916 – July 6\, 2002 \n\nhttps://www.instagram.com/p/BWNnwycgWPY/?taken-by=gunwebsites
URL:https://guncalendars.com/event/william-ruger-86-died-3-3/
CATEGORIES:Firearms Inventor
ATTACH;FMTTYPE=image/jpeg:https://guncalendars.com/wp-content/uploads/2017/08/IMG_20170706_100430_006.jpg
END:VEVENT
BEGIN:VEVENT
DTSTART;VALUE=DATE:20200709
DTEND;VALUE=DATE:20200710
DTSTAMP:20260422T155051
CREATED:20181029T112430Z
LAST-MODIFIED:20181029T114638Z
UID:6254-1594252800-1594339199@guncalendars.com
SUMMARY:Carl Walther (died)
DESCRIPTION:Carl Walther\nNov 22\, 1858 – July 9\, 1915 \n1886 founded the firm of Carl Walther GmbH\, (Walther)\n1908 Germany Model 1 (.25acp)
URL:https://guncalendars.com/event/carl-walther-born-5-2/
CATEGORIES:Firearms Inventor
ATTACH;FMTTYPE=image/jpeg:https://guncalendars.com/wp-content/uploads/2018/07/Gun-Inventors-Clubs-07-Carl-Walther.jpg
END:VEVENT
BEGIN:VEVENT
DTSTART;VALUE=DATE:20200719
DTEND;VALUE=DATE:20200720
DTSTAMP:20260422T155051
CREATED:20180529T103402Z
LAST-MODIFIED:20180619T020820Z
UID:5015-1595116800-1595203199@guncalendars.com
SUMMARY:Samuel Colt (48) Born
DESCRIPTION:July 19\, 1814 – January 10\, 1862 \nSamuel Colt born\, inventor of the first practical revolver\,\n1814 – 1862 \n \nhttps://www.instagram.com/p/BWyEtXagtX6/?taken-by=gunwebsites
URL:https://guncalendars.com/event/samuel-colt-48-born-2/
CATEGORIES:Firearms Inventor
ATTACH;FMTTYPE=image/jpeg:https://guncalendars.com/wp-content/uploads/2017/08/1424096712269.jpg
END:VEVENT
BEGIN:VEVENT
DTSTART;VALUE=DATE:20200719
DTEND;VALUE=DATE:20200720
DTSTAMP:20260422T155051
CREATED:20190624T223034Z
LAST-MODIFIED:20190624T223205Z
UID:7098-1595116800-1595203199@guncalendars.com
SUMMARY:Gaston Glock (born)
DESCRIPTION:Gaston Glock \nJuly 19\, 1929 \nAustrian engineer
URL:https://guncalendars.com/event/gaston-glock-born-2/
CATEGORIES:Firearms Inventor
ATTACH;FMTTYPE=image/jpeg:https://guncalendars.com/wp-content/uploads/2018/07/Gun-Inventors-Diamonds-12-Queen-Gaston-Glock.jpg
END:VEVENT
BEGIN:VEVENT
DTSTART;VALUE=DATE:20200728
DTEND;VALUE=DATE:20200729
DTSTAMP:20260422T155051
CREATED:20190624T225029Z
LAST-MODIFIED:20190624T225311Z
UID:7112-1595894400-1595980799@guncalendars.com
SUMMARY:Jean LeMat (died)
DESCRIPTION:Jean Alexandre LeMat \nApril 15\, 1821 – July 28\, 1895 \nborn in France \n1843 – immigrated to the United States \nOct 21\, 1856 – Grapeshot revolver patented
URL:https://guncalendars.com/event/jean-lemat-born-3-2-2/
CATEGORIES:Firearms Inventor
ATTACH;FMTTYPE=image/png:https://guncalendars.com/wp-content/uploads/2019/06/LeMat.png
END:VEVENT
BEGIN:VEVENT
DTSTART;TZID=UTC:20200729T080000
DTEND;TZID=UTC:20200729T170000
DTSTAMP:20260422T155051
CREATED:20180729T071610Z
LAST-MODIFIED:20190602T153502Z
UID:6114-1596009600-1596042000@guncalendars.com
SUMMARY:Walter Hunt - Born
DESCRIPTION:Walter Hunt\nJuly 29\, 1796 – June 8\, 1859 \nUSA \n\n1848 Volcanic\nFiring cock repeating gun Patent 6663\nlockstitch sewing machine (1833)\nsafety pin (1849)
URL:https://guncalendars.com/event/walter-hunt-born-3/
CATEGORIES:Firearms Inventor
ATTACH;FMTTYPE=image/jpeg:https://guncalendars.com/wp-content/uploads/2018/07/Gun-Inventors-Hearts-02-Walter-Hunt-Sm.jpg
END:VEVENT
END:VCALENDAR