BEGIN:VCALENDAR
VERSION:2.0
PRODID:-//Gun Calendars - ECPv6.6.2//NONSGML v1.0//EN
CALSCALE:GREGORIAN
METHOD:PUBLISH
X-WR-CALNAME:Gun Calendars
X-ORIGINAL-URL:https://guncalendars.com
X-WR-CALDESC:Events for Gun Calendars
REFRESH-INTERVAL;VALUE=DURATION:PT1H
X-Robots-Tag:noindex
X-PUBLISHED-TTL:PT1H
BEGIN:VTIMEZONE
TZID:UTC
BEGIN:STANDARD
TZOFFSETFROM:+0000
TZOFFSETTO:+0000
TZNAME:UTC
DTSTART:20200101T000000
END:STANDARD
END:VTIMEZONE
BEGIN:VEVENT
DTSTART;VALUE=DATE:20200501
DTEND;VALUE=DATE:20200502
DTSTAMP:20260423T123033
CREATED:20180830T093814Z
LAST-MODIFIED:20180830T100348Z
UID:6194-1588291200-1588377599@guncalendars.com
SUMMARY:Kijirō Nambu (Died)
DESCRIPTION:Kijirō Nambu\nSept 22\, 1869 – May 1\, 1949 (80) \n1902 nnnthe “John Browning of Japan”\n1914 Type 3 Heavy Machine Gun\n1922 Type 11 Light Machine Gun in\n1927 Nambu Arms Manufacturing Company in Tokyo
URL:https://guncalendars.com/event/kijiro-nambu-born-4-2/
CATEGORIES:Firearms Inventor
ATTACH;FMTTYPE=image/jpeg:https://guncalendars.com/wp-content/uploads/2018/07/Gun-Inventors-Clubs-08-Kijiro-Nambu.jpg
END:VEVENT
BEGIN:VEVENT
DTSTART;VALUE=DATE:20200506
DTEND;VALUE=DATE:20200507
DTSTAMP:20260423T123033
CREATED:20190131T072630Z
LAST-MODIFIED:20190131T074335Z
UID:6483-1588723200-1588809599@guncalendars.com
SUMMARY:Dick Casull - Died (87)
DESCRIPTION:Richard J. “Dick” Casull\nFebruary 15\, 1931 – May 6\, 2018 (87) \nGunsmith and Wildcat Cartridge Developer\nCreator of the .454 Casull cartridge & More.. \n1957 – .454 Casull cartridge\n1966 – Casull Model 290\n– 290-round detachable pan magazine\n– MSRP $1060 !!\n– only 87 manufactured\n1967 – all production of Model 290 stopped\n1970 – American-180\, AM-180\, or A180\n– 177-round pan magazine\n–  fires at 1200 rounds per minute\n1971 – Casull developed a mini-revolver design\n– Rocky Mountain Arms Corp\n– RMAC of Salt Lake City\, Utah\n1975 – Rocky Mountain ceased operation\n1978 – Casull became partners with Wayne Baker in Freedom Arms\, based in Freedom\, Wyoming\n1983 – Freedom Arms Model 83\, 5-shot prototypes on Ruger Super Blackhawk frames chambered in .454 Casull\n1988 – Freedom Arms ended mini revolver production \nlverveer
URL:https://guncalendars.com/event/dick-casull-born-3-2-2/
CATEGORIES:Firearms Inventor
ATTACH;FMTTYPE=image/jpeg:https://guncalendars.com/wp-content/uploads/2019/01/Casull.jpg
END:VEVENT
BEGIN:VEVENT
DTSTART;VALUE=DATE:20200506
DTEND;VALUE=DATE:20200507
DTSTAMP:20260423T123033
CREATED:20190409T030126Z
LAST-MODIFIED:20190409T030745Z
UID:6704-1588723200-1588809599@guncalendars.com
SUMMARY:Sergei Gavrilovich Simonov - Died
DESCRIPTION:Sergei Gavrilovich Simonov – Died\nApril 9\, 1894 – May 6\, 1986 \nSergei Gavrilovich Simonov\, Russia \n1945 – SKS
URL:https://guncalendars.com/event/sergei-gavrilovich-simonov-born-4-2/
CATEGORIES:Firearms Inventor
ATTACH;FMTTYPE=image/jpeg:https://guncalendars.com/wp-content/uploads/2018/07/Gun-Inventors-Diamonds-09-Sergei-Simonov.jpg
END:VEVENT
BEGIN:VEVENT
DTSTART;VALUE=DATE:20200506
DTEND;VALUE=DATE:20200507
DTSTAMP:20260423T123033
CREATED:20190624T111320Z
LAST-MODIFIED:20190624T111517Z
UID:7050-1588723200-1588809599@guncalendars.com
SUMMARY:John Marlin (born)
DESCRIPTION:May 6\, 1836 – July 1\, 1901 \nDuring the American Civil War – worked at the Colt plant in Hartford \n1863 – Starting making pistols in New Haven\, Connecticut \n1881 – lever-action repeating rifle \n  \nsons Mahlon Henry and John Howard took over the company after their father’s death in 1901
URL:https://guncalendars.com/event/john-marlin-born-2/
CATEGORIES:Firearms Inventor
END:VEVENT
BEGIN:VEVENT
DTSTART;VALUE=DATE:20200513
DTEND;VALUE=DATE:20200514
DTSTAMP:20260423T123033
CREATED:20180529T103420Z
LAST-MODIFIED:20200523T112836Z
UID:8362-1589328000-1589414399@guncalendars.com
SUMMARY:Nikolay Makarov (74) Died
DESCRIPTION:Nikolay Fyodorovich Makarov(Никола́й Фёдорович Мака́ров)\nMay 22\, 1914 – May 13\, 1988 \nDesigner of Makarov Pistol \n#GunChannels\n#GunWebsites #Makarov #CommiePistols\n#RussianGuns \n\nhttps://www.instagram.com/p/BUY44Xqg1V2/?taken-by=gunwebsites
URL:https://guncalendars.com/event/nikolay-makarov-74-died-4-2/
CATEGORIES:Firearms Inventor
ATTACH;FMTTYPE=image/jpeg:https://guncalendars.com/wp-content/uploads/2017/08/IMG_20170522_020255_498.jpg
END:VEVENT
BEGIN:VEVENT
DTSTART;VALUE=DATE:20200513
DTEND;VALUE=DATE:20200514
DTSTAMP:20260423T123033
CREATED:20180822T092754Z
LAST-MODIFIED:20180830T095205Z
UID:6162-1589328000-1589414399@guncalendars.com
SUMMARY:Arthur William Savage (Born)
DESCRIPTION:Arthur William Savage  \nMay 13\, 1857 – Sept 22\, 1938\n1899 Savage Model 99 lever-action rifle\n1894 Savage started Savage Arms \n\nMarlin Repeating Arms
URL:https://guncalendars.com/event/arthur-william-savage-died-3-2/
CATEGORIES:Firearms Inventor
ATTACH;FMTTYPE=image/jpeg:https://guncalendars.com/wp-content/uploads/2018/07/Gun-Inventors-Hearts-07-Arthur-Savage.jpg
END:VEVENT
BEGIN:VEVENT
DTSTART;VALUE=DATE:20200518
DTEND;VALUE=DATE:20200519
DTSTAMP:20260423T123033
CREATED:20180619T021254Z
LAST-MODIFIED:20180619T021346Z
UID:5897-1589760000-1589846399@guncalendars.com
SUMMARY:Daniel Wesson (Born)
DESCRIPTION:Daniel B. Wesson\nMay 18\, 1825 – Aug 4\, 1906 \nUSA \n\nthe Volcanic – the first repeating rifle\n1854 patented Rimfire cartridge
URL:https://guncalendars.com/event/daniel-wesson-born-2/
CATEGORIES:Firearms Inventor,Gun Industry
ATTACH;FMTTYPE=image/jpeg:https://guncalendars.com/wp-content/uploads/2018/06/Gun-Inventors-Spades-06-Daniel-B-Wesson.jpg
END:VEVENT
BEGIN:VEVENT
DTSTART;VALUE=DATE:20200521
DTEND;VALUE=DATE:20200522
DTSTAMP:20260423T123033
CREATED:20200512T050850Z
LAST-MODIFIED:20200512T050850Z
UID:8274-1590019200-1590105599@guncalendars.com
SUMMARY:John Pedersen - Born
DESCRIPTION:May 21\, 1881 – May 23\, 1951 \n\nprolific firearm designer\nOver 70 patents\n1918 – Pedersen device\nconverted a standard Springfield 1903  to a semi-automatic\, pistol-caliber\n1920s – Pedersen Rifle\, T1E3\nCompeted with M1 Garand  to replace 1903 Springfield\n\nRemington\n– Model 51 pistol\n– Model 10 pump-action shotgun\n– Models 12\, 14\, 25 pump-action rifles\nBrowning Model 17 pump-action shotgu\nIthaca\n– Ithaca 37 pump-action shotgun\nIrwin-Pedersen Arms Company
URL:https://guncalendars.com/event/john-pedersen-born/
CATEGORIES:Firearms Inventor
ATTACH;FMTTYPE=image/png:https://guncalendars.com/wp-content/uploads/2020/05/Gun-Inventors-Hearts-John-Pedersen.png
END:VEVENT
BEGIN:VEVENT
DTSTART;VALUE=DATE:20200522
DTEND;VALUE=DATE:20200523
DTSTAMP:20260423T123033
CREATED:20180529T103419Z
LAST-MODIFIED:20200523T112824Z
UID:8361-1590105600-1590191999@guncalendars.com
SUMMARY:Nikolay Makarov (74) Born
DESCRIPTION:Nikolay Fyodorovich Makarov(Никола́й Фёдорович Мака́ров)\nMay 22\, 1914 – May 13\, 1988 \nDesigner of Makarov Pistol \n#GunChannels\n#GunWebsites #Makarov #CommiePistols\n#RussianGuns \n\nhttps://www.instagram.com/p/BUY44Xqg1V2/?taken-by=gunwebsites
URL:https://guncalendars.com/event/nikolay-makarov-74-born-4-2/
CATEGORIES:Firearms Inventor
ATTACH;FMTTYPE=image/jpeg:https://guncalendars.com/wp-content/uploads/2017/08/IMG_20170522_020255_498.jpg
END:VEVENT
BEGIN:VEVENT
DTSTART;VALUE=DATE:20200523
DTEND;VALUE=DATE:20200524
DTSTAMP:20260423T123033
CREATED:20200512T050850Z
LAST-MODIFIED:20200512T051133Z
UID:8284-1590192000-1590278399@guncalendars.com
SUMMARY:John Pedersen - Died (70)
DESCRIPTION:May 21\, 1881 – May 23\, 1951 \n\nprolific firearm designer\nOver 70 patents\n1918 – Pedersen device\nconverted a standard Springfield 1903  to a semi-automatic\, pistol-caliber\n1920s – Pedersen Rifle\, T1E3\nCompeted with M1 Garand  to replace 1903 Springfield\n\nRemington\n– Model 51 pistol\n– Model 10 pump-action shotgun\n– Models 12\, 14\, 25 pump-action rifles\nBrowning Model 17 pump-action shotgu\nIthaca\n– Ithaca 37 pump-action shotgun\nIrwin-Pedersen Arms Company
URL:https://guncalendars.com/event/john-pedersen-born-3-2-3/
CATEGORIES:Firearms Inventor
ATTACH;FMTTYPE=image/png:https://guncalendars.com/wp-content/uploads/2020/05/Gun-Inventors-Hearts-John-Pedersen.png
END:VEVENT
BEGIN:VEVENT
DTSTART;VALUE=DATE:20200523
DTEND;VALUE=DATE:20200524
DTSTAMP:20260423T123033
CREATED:20200512T062144Z
LAST-MODIFIED:20200512T062144Z
UID:8295-1590192000-1590278399@guncalendars.com
SUMMARY:George Kellgren – Born
DESCRIPTION:May 23\, 1943 \n\nBorn in Sweden\n1979 – Moved to USA\nFirearm Inventor\nWorked at Interdynamics AB\n1985 Tec-9 Invented\n1987 – 1991 Grendel Firearms\n1988 – P10 .380 double action only with no detachable magazine\, loaded with M16 Srtripper Clip\nGrendel P30\n1990 – P30M carbine version of the Grendel P30\n1991-1994  – P12\n1991 – Founded  Kel-Tec
URL:https://guncalendars.com/event/george-kellgren-born/
CATEGORIES:Firearms Inventor
ATTACH;FMTTYPE=image/png:https://guncalendars.com/wp-content/uploads/2020/05/Gun-Inventors-Clubs-George-Kellgren.png
END:VEVENT
BEGIN:VEVENT
DTSTART;VALUE=DATE:20200529
DTEND;VALUE=DATE:20200530
DTSTAMP:20260423T123033
CREATED:20190603T041531Z
LAST-MODIFIED:20190603T042352Z
UID:6977-1590710400-1590796799@guncalendars.com
SUMMARY:Paul Mauser  (Died)
DESCRIPTION:Paul Mauser\nJune 27\, 1838 – May 29\, 1914 \n1889 – Germany Gewehr 98 and Karabiner 98k\n1889 – 7.65×53mm Mauser rifle cartridges\n1892 – 7×57mm Mauser rifle cartridges
URL:https://guncalendars.com/event/paul-mauser-born-4-2/
CATEGORIES:Firearms Inventor
ATTACH;FMTTYPE=image/jpeg:https://guncalendars.com/wp-content/uploads/2018/07/Gun-Inventors-Diamonds-03-Paul-Mauser.jpg
END:VEVENT
END:VCALENDAR