BEGIN:VCALENDAR
VERSION:2.0
PRODID:-//Gun Calendars - ECPv6.6.2//NONSGML v1.0//EN
CALSCALE:GREGORIAN
METHOD:PUBLISH
X-ORIGINAL-URL:https://guncalendars.com
X-WR-CALDESC:Events for Gun Calendars
REFRESH-INTERVAL;VALUE=DURATION:PT1H
X-Robots-Tag:noindex
X-PUBLISHED-TTL:PT1H
BEGIN:VTIMEZONE
TZID:UTC
BEGIN:STANDARD
TZOFFSETFROM:+0000
TZOFFSETTO:+0000
TZNAME:UTC
DTSTART:20200101T000000
END:STANDARD
END:VTIMEZONE
BEGIN:VEVENT
DTSTART;VALUE=DATE:20200101
DTEND;VALUE=DATE:20200102
DTSTAMP:20260424T155147
CREATED:20180529T103451Z
LAST-MODIFIED:20191226T102144Z
UID:7316-1577836800-1577923199@guncalendars.com
SUMMARY:Yisrael Galil (72) Born
DESCRIPTION:Yisrael GalilJan 1\, 1923 – Mar 9\, 1995 \nBest known for inventing the Galil rifle. He also helped create the Uzi \n#GunChannels\n#GunHistory\n#Galil #AK47\n#Uzi \n\nhttps://www.instagram.com/p/BRaeZRJgKnw/?taken-by=gunwebsites \n\nhttps://www.instagram.com/p/BCwpvQmqhXs/?taken-by=gunwebsites
URL:https://guncalendars.com/event/yisrael-galil-72-born-4-2/
CATEGORIES:Firearms Inventor
ATTACH;FMTTYPE=image/jpeg:https://guncalendars.com/wp-content/uploads/2017/08/IMG_20170309_104149_502.jpg
END:VEVENT
BEGIN:VEVENT
DTSTART;VALUE=DATE:20200101
DTEND;VALUE=DATE:20200102
DTSTAMP:20260424T155147
CREATED:20190102T044528Z
LAST-MODIFIED:20191226T163211Z
UID:6318-1577836800-1577923199@guncalendars.com
SUMMARY:John Cantius Garand (Born)
DESCRIPTION:John Cantius Garand \nJan 1\, 1888 – Feb 16\, 1974 \nnnnboern \nCanada / USA \n1928 M1 Garand \nOne of only seven individuals have invented firearms adopted by the United States Military
URL:https://guncalendars.com/event/john-cantius-garand-born-2/
CATEGORIES:Firearms Inventor
ATTACH;FMTTYPE=image/jpeg:https://guncalendars.com/wp-content/uploads/2018/07/Gun-Inventors-Spades-09-John-Garand.jpg
END:VEVENT
BEGIN:VEVENT
DTSTART;VALUE=DATE:20200102
DTEND;VALUE=DATE:20200103
DTSTAMP:20260424T155147
CREATED:20180619T015307Z
LAST-MODIFIED:20180619T015359Z
UID:5875-1577923200-1578009599@guncalendars.com
SUMMARY:Christian Sharps (Born)
DESCRIPTION:Christian Sharps\nJan 2\, 1810 – March 12\, 1874 \nUSA \n\nSharps rifle\, 4 barrel derringer 1851\n1855 the first commercially successful breech-loading rifle\nfifteen firearms-related patents
URL:https://guncalendars.com/event/christian-sharps-born-2/
CATEGORIES:Firearms Inventor,Gun Industry
ATTACH;FMTTYPE=image/jpeg:https://guncalendars.com/wp-content/uploads/2018/06/Gun-Inventors-Spades-03-Christian-Sharps.jpg
END:VEVENT
BEGIN:VEVENT
DTSTART;VALUE=DATE:20200104
DTEND;VALUE=DATE:20200105
DTSTAMP:20260424T155147
CREATED:20190624T104337Z
LAST-MODIFIED:20190624T105528Z
UID:7044-1578096000-1578182399@guncalendars.com
SUMMARY:George Hyde (born)
DESCRIPTION:George Hyde\nJanuary 4\, 1888 – December 1963 \n1935 – co-owner of Leonard & Hydrnr\nWWII – chief gun designer for the Inland Division of General Motors (GM) \n Guns \n\nModel 33\, prototype – Submachine Gun\nAug 4\, 1936.- Model 35\, a prototype Submachine Gun\n1941 – Bendix Hyde carbine\nFeb\, 1941 – M2 Hyde – Submachine Gun\nMay 1942 – FP-45 Liberator pistol\nDec 12\, 1942 – M3 grease gun\n\n 
URL:https://guncalendars.com/event/george-hyde-born-2/
CATEGORIES:Firearms Inventor
END:VEVENT
BEGIN:VEVENT
DTSTART;VALUE=DATE:20200108
DTEND;VALUE=DATE:20200109
DTSTAMP:20260424T155147
CREATED:20181029T102434Z
LAST-MODIFIED:20181029T103123Z
UID:6231-1578441600-1578527999@guncalendars.com
SUMMARY:David “Carbine” Marshall Williams (died)
DESCRIPTION:David “Carbine” Marshall Williams\nNov 13\, 1900 – Jan 8\, 1975	 \nfloating chamber and the short-stroke piston				 \nColt Manufacturing Company\, U.S. Ordnance Department\,  Remington Arms\, Winchester Repeating Arms
URL:https://guncalendars.com/event/david-carbine-marshall-williams-born-3-2/
CATEGORIES:Firearms Inventor
ATTACH;FMTTYPE=image/jpeg:https://guncalendars.com/wp-content/uploads/2018/07/Gun-Inventors-Hearts-10-Carbine-Marshall-Williams.jpg
END:VEVENT
BEGIN:VEVENT
DTSTART;VALUE=DATE:20200109
DTEND;VALUE=DATE:20200110
DTSTAMP:20260424T155147
CREATED:20180619T034255Z
LAST-MODIFIED:20180619T034519Z
UID:5944-1578528000-1578614399@guncalendars.com
SUMMARY:Melvin M. Johnson Jr (Died)
DESCRIPTION:Melvin M. Johnson Jr\nAug 9\, 1909 – Jan 9\, 1965 \nUSA \n\nM1941 Johnson rifle 1935\nOne of only seven individuals have invented firearms adopted by the United States Military\nMarine Corps Reserve in 1933 as a Second Lieutenant\ncompleted Harvard Law School in 1934\n\nWorked With: \n\nWinchester\nArmalite
URL:https://guncalendars.com/event/melvin-m-johnson-jr-born-3-2/
CATEGORIES:Firearms Inventor
ATTACH;FMTTYPE=image/jpeg:https://guncalendars.com/wp-content/uploads/2018/06/Gun-Inventors-Spades-10-Melvin-M-Johnson-Jr.jpg
END:VEVENT
BEGIN:VEVENT
DTSTART;VALUE=DATE:20200110
DTEND;VALUE=DATE:20200111
DTSTAMP:20260424T155147
CREATED:20180529T103403Z
LAST-MODIFIED:20180619T020755Z
UID:5018-1578614400-1578700799@guncalendars.com
SUMMARY:Samuel Colt - Died
DESCRIPTION:July 19\, 1814 – January 10\, 1862 \nSamuel Colt born\, inventor of the first practical revolver\,\n1814 – 1862 \n \nhttps://www.instagram.com/p/BWyEtXagtX6/?taken-by=gunwebsites
URL:https://guncalendars.com/event/samuel-colt-died/
CATEGORIES:Firearms Inventor
ATTACH;FMTTYPE=image/jpeg:https://guncalendars.com/wp-content/uploads/2017/08/1424096712269.jpg
END:VEVENT
BEGIN:VEVENT
DTSTART;VALUE=DATE:20200112
DTEND;VALUE=DATE:20200113
DTSTAMP:20260424T155147
CREATED:20190102T064405Z
LAST-MODIFIED:20190102T064517Z
UID:6354-1578787200-1578873599@guncalendars.com
SUMMARY:Arisaka Nariakira (Died)
DESCRIPTION:Arisaka Nariakira \nApril 5\, 1852 – Jan 12\, 1915 \nJapan \n1897 – Type 30 Rifle \n \n\n\n 
URL:https://guncalendars.com/event/arisaka-nariakira-died-2/
CATEGORIES:Firearms Inventor
ATTACH;FMTTYPE=image/jpeg:https://guncalendars.com/wp-content/uploads/2018/07/Gun-Inventors-Diamonds-07-Arisaka-Nariakira.jpg
END:VEVENT
BEGIN:VEVENT
DTSTART;VALUE=DATE:20200113
DTEND;VALUE=DATE:20200114
DTSTAMP:20260424T155147
CREATED:20180529T103429Z
LAST-MODIFIED:20191226T105830Z
UID:7350-1578873600-1578959999@guncalendars.com
SUMMARY:Wilhelm Mauser (48) Died
DESCRIPTION:Wilhelm MauserMay 2\, 1834 – Jan 13\, 1882\nDesigned the Mauser Model 1871 rifle \n#Rifle #Mauser #RealGuns #FirearmsHistory \n\nhttps://www.instagram.com/p/BTo2YO0gXCZ/?taken-by=gunwebsites
URL:https://guncalendars.com/event/wilhelm-mauser-48-died-4-2/
CATEGORIES:Firearms Inventor
ATTACH;FMTTYPE=image/jpeg:https://guncalendars.com/wp-content/uploads/2017/08/1433802009014.jpg
END:VEVENT
BEGIN:VEVENT
DTSTART;VALUE=DATE:20200114
DTEND;VALUE=DATE:20200115
DTSTAMP:20260424T155147
CREATED:20180619T023903Z
LAST-MODIFIED:20180619T024127Z
UID:5910-1578960000-1579046399@guncalendars.com
SUMMARY:Christopher Spencer (Died)
DESCRIPTION:Christopher Miner Spencer\nJune 20\, 1833 – Jan 14\, 1922 \nUSA \n\nSpencer repeating rifle 1860 Colt\nSpencer Arms Company\nRoper Repeating Arms Company
URL:https://guncalendars.com/event/christopher-spencer-died/
CATEGORIES:Firearms Inventor
ATTACH;FMTTYPE=image/jpeg:https://guncalendars.com/wp-content/uploads/2018/06/Gun-Inventors-Spades-07-Christopher-Spencer.jpg
END:VEVENT
BEGIN:VEVENT
DTSTART;VALUE=DATE:20200115
DTEND;VALUE=DATE:20200116
DTSTAMP:20260424T155147
CREATED:20190102T050257Z
LAST-MODIFIED:20190102T053418Z
UID:6333-1579046400-1579132799@guncalendars.com
SUMMARY:Horace Smith (Died)
DESCRIPTION:Horace Smith \nOct 28\, 1808 – Jan 15\, 1893 (85)
URL:https://guncalendars.com/event/horace-smith-died-2/
CATEGORIES:Firearms Inventor
ATTACH;FMTTYPE=image/jpeg:https://guncalendars.com/wp-content/uploads/2018/07/Gun-Inventors-Hearts-04-Horace-Smith-gun.jpg
END:VEVENT
BEGIN:VEVENT
DTSTART;VALUE=DATE:20200123
DTEND;VALUE=DATE:20200124
DTSTAMP:20260424T155147
CREATED:20180529T103524Z
LAST-MODIFIED:20191226T110614Z
UID:7366-1579737600-1579823999@guncalendars.com
SUMMARY:John Moses Browning (71) Born
DESCRIPTION:John Moses Browning\nJan. 23\, 1855 – Nov. 26\, 1926 \nhttps://www.instagram.com/p/BeTJTS5nrWn/?taken-by=gunwebsites
URL:https://guncalendars.com/event/john-moses-browning-71-born-4-2/
CATEGORIES:Firearms Inventor
ATTACH;FMTTYPE=image/jpeg:https://guncalendars.com/wp-content/uploads/2018/06/1516725727257.jpg
END:VEVENT
BEGIN:VEVENT
DTSTART;VALUE=DATE:20200123
DTEND;VALUE=DATE:20200124
DTSTAMP:20260424T155147
CREATED:20191226T131803Z
LAST-MODIFIED:20191226T131803Z
UID:7394-1579737600-1579823999@guncalendars.com
SUMMARY:Elisha Collier (Died)
DESCRIPTION:Elisha Collier\n(1788–1856) \nJan 23\, 1856 \nBoston Inventor\n1814 – invented a flintlock revolver\n1818 until 1850 lived in England from \n \nCollier also produced revolving shotguns and carbines
URL:https://guncalendars.com/event/elisha-collier-died/
CATEGORIES:Firearms Inventor
ATTACH;FMTTYPE=image/jpeg:https://guncalendars.com/wp-content/uploads/2019/12/Coller.jpg
END:VEVENT
BEGIN:VEVENT
DTSTART;VALUE=DATE:20200127
DTEND;VALUE=DATE:20200128
DTSTAMP:20260424T155147
CREATED:20190102T055656Z
LAST-MODIFIED:20190128T051446Z
UID:6344-1580083200-1580169599@guncalendars.com
SUMMARY:Alexander Henry (Died)
DESCRIPTION:Alexander Henry \nJune 4\, 1818 – Jan 27\, 1894 \nScotland \n1870 Martini – Henry
URL:https://guncalendars.com/event/alexander-henry-born-4/
CATEGORIES:Firearms Inventor
ATTACH;FMTTYPE=image/jpeg:https://guncalendars.com/wp-content/uploads/2018/07/Gun-Inventors-Clubs-03-Alexander-Henry.jpg
END:VEVENT
BEGIN:VEVENT
DTSTART;VALUE=DATE:20200130
DTEND;VALUE=DATE:20200131
DTSTAMP:20260424T155147
CREATED:20190118T174513Z
LAST-MODIFIED:20190118T174819Z
UID:6372-1580342400-1580428799@guncalendars.com
SUMMARY:Ferdinand Mannlicher - Born	Inventor
DESCRIPTION:Ferdinand Mannlicher – Born\nJan 30\, 1848\nInventor
URL:https://guncalendars.com/event/ferdinand-mannlicher-borninventor-2/
CATEGORIES:Firearms Inventor
END:VEVENT
END:VCALENDAR