BEGIN:VCALENDAR
VERSION:2.0
PRODID:-//Gun Calendars - ECPv6.6.2//NONSGML v1.0//EN
CALSCALE:GREGORIAN
METHOD:PUBLISH
X-ORIGINAL-URL:https://guncalendars.com
X-WR-CALDESC:Events for Gun Calendars
REFRESH-INTERVAL;VALUE=DURATION:PT1H
X-Robots-Tag:noindex
X-PUBLISHED-TTL:PT1H
BEGIN:VTIMEZONE
TZID:UTC
BEGIN:STANDARD
TZOFFSETFROM:+0000
TZOFFSETTO:+0000
TZNAME:UTC
DTSTART:20190101T000000
END:STANDARD
END:VTIMEZONE
BEGIN:VEVENT
DTSTART;VALUE=DATE:20191209
DTEND;VALUE=DATE:20191210
DTSTAMP:20260425T063430
CREATED:20181204T010854Z
LAST-MODIFIED:20181204T011131Z
UID:6262-1575849600-1575935999@guncalendars.com
SUMMARY:Herman Johannes Krag (died)
DESCRIPTION:Herman Krag\nOle Herman Johannes Krag\nApril 7\, 1837 – Dec 9\, 1916\nNorway \n1886\, Krag–Petersson Rifle\n1872\,Krag–Jørgensen Rifle
URL:https://guncalendars.com/event/herman-johannes-krag-died-2/
CATEGORIES:Firearms Inventor
ATTACH;FMTTYPE=image/jpeg:https://guncalendars.com/wp-content/uploads/2018/07/Gun-Inventors-Diamonds-02-Herman-Krag.jpg
END:VEVENT
BEGIN:VEVENT
DTSTART;TZID=UTC:20191222T000000
DTEND;TZID=UTC:20191222T000000
DTSTAMP:20260425T063430
CREATED:20180529T103455Z
LAST-MODIFIED:20180529T103455Z
UID:5210-1576972800-1576972800@guncalendars.com
SUMMARY:Georg Luger (74) Died
DESCRIPTION:Georg Johann LugerMarch 6\, 1849 – Dec 22\, 1923\nDesigned of the Luger pistol and the 9×19mm Parabellum cartridge. \n#GunHistory\n#9mm #Luger \n\nhttps://www.instagram.com/p/BRT5EAvApgg/?taken-by=gunwebsites \nhttps://www.instagram.com/p/BOVCSIiDpeO/?taken-by=gunwebsites \n 
URL:https://guncalendars.com/event/georg-luger-74-died-4/
CATEGORIES:Firearms Inventor
ATTACH;FMTTYPE=image/jpeg:https://guncalendars.com/wp-content/uploads/2017/08/IMG_20170306_135527_922.jpg
END:VEVENT
BEGIN:VEVENT
DTSTART;VALUE=DATE:20191228
DTEND;VALUE=DATE:20191229
DTSTAMP:20260425T063430
CREATED:20181204T011729Z
LAST-MODIFIED:20181204T012017Z
UID:6275-1577491200-1577577599@guncalendars.com
SUMMARY:Reverend John Forsyth (born)
DESCRIPTION:Reverend John Forsyth\nDec 28\, 1769 – June 11\, 1843\nScotland \n1805 – Percussion Cap ignition system
URL:https://guncalendars.com/event/reverend-john-forsyth-born-2/
CATEGORIES:Firearms Inventor
ATTACH;FMTTYPE=image/jpeg:https://guncalendars.com/wp-content/uploads/2018/07/Gun-Inventors-Clubs-02-Reverend-John-Forsyth.jpg
END:VEVENT
BEGIN:VEVENT
DTSTART;VALUE=DATE:20191230
DTEND;VALUE=DATE:20191231
DTSTAMP:20260425T063430
CREATED:20181204T012552Z
LAST-MODIFIED:20181204T015819Z
UID:6291-1577664000-1577750399@guncalendars.com
SUMMARY:Gordon Ingram (born)
DESCRIPTION:Gordon Ingram\nDec 30\, 1924 – Nov 4\, 2004\nUSA \n1964 – MAC-10
URL:https://guncalendars.com/event/gordon-ingram-born-2/
CATEGORIES:Firearms Inventor
ATTACH;FMTTYPE=image/jpeg:https://guncalendars.com/wp-content/uploads/2018/07/Gun-Inventors-Hearts-13-King-Gordon-Ingram.jpg
END:VEVENT
BEGIN:VEVENT
DTSTART;VALUE=DATE:20191231
DTEND;VALUE=DATE:20200101
DTSTAMP:20260425T063430
CREATED:20180619T031410Z
LAST-MODIFIED:20180619T031452Z
UID:5916-1577750400-1577836799@guncalendars.com
SUMMARY:John Thompson (Born)
DESCRIPTION:John Taliaferro Thompson\nDec 31\, 1860 – June 21\, 1940 \nUSA \n\nThompson submachine gun 1920\nOne of only seven individuals have invented firearms adopted by the United States Military
URL:https://guncalendars.com/event/john-thompson-born-2/
CATEGORIES:Firearms Inventor
ATTACH;FMTTYPE=image/jpeg:https://guncalendars.com/wp-content/uploads/2018/06/Gun-Inventors-Spades-08-John-Taliaferro-Thompson.jpg
END:VEVENT
END:VCALENDAR