BEGIN:VCALENDAR
VERSION:2.0
PRODID:-//Gun Calendars - ECPv6.6.2//NONSGML v1.0//EN
CALSCALE:GREGORIAN
METHOD:PUBLISH
X-WR-CALNAME:Gun Calendars
X-ORIGINAL-URL:https://guncalendars.com
X-WR-CALDESC:Events for Gun Calendars
REFRESH-INTERVAL;VALUE=DURATION:PT1H
X-Robots-Tag:noindex
X-PUBLISHED-TTL:PT1H
BEGIN:VTIMEZONE
TZID:UTC
BEGIN:STANDARD
TZOFFSETFROM:+0000
TZOFFSETTO:+0000
TZNAME:UTC
DTSTART:20190101T000000
END:STANDARD
END:VTIMEZONE
BEGIN:VEVENT
DTSTART;VALUE=DATE:20190501
DTEND;VALUE=DATE:20190502
DTSTAMP:20260423T100624
CREATED:20180830T093814Z
LAST-MODIFIED:20180830T100233Z
UID:6191-1556668800-1556755199@guncalendars.com
SUMMARY:Kijirō Nambu (Died)
DESCRIPTION:Kijirō Nambu\nSept 22\, 1869 – May 1\, 1949 (80) \n1902 nnnthe “John Browning of Japan”\n1914 Type 3 Heavy Machine Gun\n1922 Type 11 Light Machine Gun in\n1927 Nambu Arms Manufacturing Company in Tokyo
URL:https://guncalendars.com/event/kijiro-nambu-born-4/
CATEGORIES:Firearms Inventor
ATTACH;FMTTYPE=image/jpeg:https://guncalendars.com/wp-content/uploads/2018/07/Gun-Inventors-Clubs-08-Kijiro-Nambu.jpg
END:VEVENT
BEGIN:VEVENT
DTSTART;TZID=UTC:20190502T000000
DTEND;TZID=UTC:20190502T000000
DTSTAMP:20260423T100624
CREATED:20180529T103428Z
LAST-MODIFIED:20180529T103428Z
UID:5110-1556755200-1556755200@guncalendars.com
SUMMARY:Wilhelm Mauser (48) Born
DESCRIPTION:Wilhelm MauserMay 2\, 1834 – Jan 13\, 1882\nDesigned the Mauser Model 1871 rifle \n#Rifle #Mauser #RealGuns #FirearmsHistory \n\nhttps://www.instagram.com/p/BTo2YO0gXCZ/?taken-by=gunwebsites
URL:https://guncalendars.com/event/wilhelm-mauser-48-born-4/
CATEGORIES:Firearms Inventor
ATTACH;FMTTYPE=image/jpeg:https://guncalendars.com/wp-content/uploads/2017/08/1433802009014.jpg
END:VEVENT
BEGIN:VEVENT
DTSTART;TZID=UTC:20190506T000000
DTEND;TZID=UTC:20190506T000000
DTSTAMP:20260423T100624
CREATED:20180529T103506Z
LAST-MODIFIED:20180529T103506Z
UID:5246-1557100800-1557100800@guncalendars.com
SUMMARY:Hudson Maxim (74) Died
DESCRIPTION:Hudson Maxim(February 3\, 1853 – May 6\, 1927)\nInvented Smokeless Gun Powder (in the USA) in 1890 \n*Brother of the Machine Gun Inventor\n**Uncle of the Suppressor Inventor\n***No left hand (he blew it off inventing explosives) \n#SmokelessPowder\n#GunPowder\n#Maxim \n\nhttps://www.instagram.com/p/BQGh-qrD7EN/?taken-by=gunwebsites
URL:https://guncalendars.com/event/hudson-maxim-74-died-4/
CATEGORIES:Firearms Inventor
ATTACH;FMTTYPE=image/jpeg:https://guncalendars.com/wp-content/uploads/2017/08/IMG_20170204_125205_720.jpg
END:VEVENT
BEGIN:VEVENT
DTSTART;VALUE=DATE:20190506
DTEND;VALUE=DATE:20190507
DTSTAMP:20260423T100624
CREATED:20190131T072630Z
LAST-MODIFIED:20190131T074344Z
UID:6482-1557100800-1557187199@guncalendars.com
SUMMARY:Dick Casull - Died (87)
DESCRIPTION:Richard J. “Dick” Casull\nFebruary 15\, 1931 – May 6\, 2018 (87) \nGunsmith and Wildcat Cartridge Developer\nCreator of the .454 Casull cartridge & More.. \n1957 – .454 Casull cartridge\n1966 – Casull Model 290\n– 290-round detachable pan magazine\n– MSRP $1060 !!\n– only 87 manufactured\n1967 – all production of Model 290 stopped\n1970 – American-180\, AM-180\, or A180\n– 177-round pan magazine\n–  fires at 1200 rounds per minute\n1971 – Casull developed a mini-revolver design\n– Rocky Mountain Arms Corp\n– RMAC of Salt Lake City\, Utah\n1975 – Rocky Mountain ceased operation\n1978 – Casull became partners with Wayne Baker in Freedom Arms\, based in Freedom\, Wyoming\n1983 – Freedom Arms Model 83\, 5-shot prototypes on Ruger Super Blackhawk frames chambered in .454 Casull\n1988 – Freedom Arms ended mini revolver production \nlverveer
URL:https://guncalendars.com/event/dick-casull-born-3-2-3/
CATEGORIES:Firearms Inventor
ATTACH;FMTTYPE=image/jpeg:https://guncalendars.com/wp-content/uploads/2019/01/Casull.jpg
END:VEVENT
BEGIN:VEVENT
DTSTART;VALUE=DATE:20190506
DTEND;VALUE=DATE:20190507
DTSTAMP:20260423T100624
CREATED:20190409T030126Z
LAST-MODIFIED:20190409T030623Z
UID:6700-1557100800-1557187199@guncalendars.com
SUMMARY:Sergei Gavrilovich Simonov - Died
DESCRIPTION:Sergei Gavrilovich Simonov – Died\nApril 9\, 1894 – May 6\, 1986 \nSergei Gavrilovich Simonov\, Russia \n1945 – SKS
URL:https://guncalendars.com/event/sergei-gavrilovich-simonov-born-4/
CATEGORIES:Firearms Inventor
ATTACH;FMTTYPE=image/jpeg:https://guncalendars.com/wp-content/uploads/2018/07/Gun-Inventors-Diamonds-09-Sergei-Simonov.jpg
END:VEVENT
BEGIN:VEVENT
DTSTART;VALUE=DATE:20190506
DTEND;VALUE=DATE:20190507
DTSTAMP:20260423T100624
CREATED:20190624T111320Z
LAST-MODIFIED:20190624T111320Z
UID:7048-1557100800-1557187199@guncalendars.com
SUMMARY:John Marlin (born)
DESCRIPTION:May 6\, 1836 – July 1\, 1901 \nDuring the American Civil War – worked at the Colt plant in Hartford \n1863 – Starting making pistols in New Haven\, Connecticut \n1881 – lever-action repeating rifle \n  \nsons Mahlon Henry and John Howard took over the company after their father’s death in 1901
URL:https://guncalendars.com/event/john-marlin-born/
CATEGORIES:Firearms Inventor
END:VEVENT
BEGIN:VEVENT
DTSTART;TZID=UTC:20190513T000000
DTEND;TZID=UTC:20190513T000000
DTSTAMP:20260423T100624
CREATED:20180529T103420Z
LAST-MODIFIED:20180529T103420Z
UID:5080-1557705600-1557705600@guncalendars.com
SUMMARY:Nikolay Makarov (74) Died
DESCRIPTION:Nikolay Fyodorovich Makarov(Никола́й Фёдорович Мака́ров)\nMay 22\, 1914 – May 13\, 1988 \nDesigner of Makarov Pistol \n#GunChannels\n#GunWebsites #Makarov #CommiePistols\n#RussianGuns \n\nhttps://www.instagram.com/p/BUY44Xqg1V2/?taken-by=gunwebsites
URL:https://guncalendars.com/event/nikolay-makarov-74-died-4/
CATEGORIES:Firearms Inventor
ATTACH;FMTTYPE=image/jpeg:https://guncalendars.com/wp-content/uploads/2017/08/IMG_20170522_020255_498.jpg
END:VEVENT
BEGIN:VEVENT
DTSTART;VALUE=DATE:20190513
DTEND;VALUE=DATE:20190514
DTSTAMP:20260423T100624
CREATED:20180822T092754Z
LAST-MODIFIED:20180830T095105Z
UID:6160-1557705600-1557791999@guncalendars.com
SUMMARY:Arthur William Savage (Born)
DESCRIPTION:May 13\, 1857 – Sept 22\, 1938\n1899 Savage Model 99 lever-action rifle\n1894 Savage started Savage Arms \n\nMarlin Repeating Arms
URL:https://guncalendars.com/event/arthur-william-savage-died-3/
CATEGORIES:Firearms Inventor
ATTACH;FMTTYPE=image/jpeg:https://guncalendars.com/wp-content/uploads/2018/07/Gun-Inventors-Hearts-07-Arthur-Savage.jpg
END:VEVENT
BEGIN:VEVENT
DTSTART;VALUE=DATE:20190518
DTEND;VALUE=DATE:20190519
DTSTAMP:20260423T100624
CREATED:20180619T021254Z
LAST-MODIFIED:20180619T021254Z
UID:5895-1558137600-1558223999@guncalendars.com
SUMMARY:Daniel Wesson (Born)
DESCRIPTION:Daniel B. Wesson\nMay 18\, 1825 – Aug 4\, 1906 \nUSA \n\nthe Volcanic – the first repeating rifle\n1854 patented Rimfire cartridge
URL:https://guncalendars.com/event/daniel-wesson-born/
CATEGORIES:Firearms Inventor,Gun Industry
ATTACH;FMTTYPE=image/jpeg:https://guncalendars.com/wp-content/uploads/2018/06/Gun-Inventors-Spades-06-Daniel-B-Wesson.jpg
END:VEVENT
BEGIN:VEVENT
DTSTART;TZID=UTC:20190522T000000
DTEND;TZID=UTC:20190522T000000
DTSTAMP:20260423T100624
CREATED:20180529T103419Z
LAST-MODIFIED:20180529T103419Z
UID:5076-1558483200-1558483200@guncalendars.com
SUMMARY:Nikolay Makarov (74) Born
DESCRIPTION:Nikolay Fyodorovich Makarov(Никола́й Фёдорович Мака́ров)\nMay 22\, 1914 – May 13\, 1988 \nDesigner of Makarov Pistol \n#GunChannels\n#GunWebsites #Makarov #CommiePistols\n#RussianGuns \n\nhttps://www.instagram.com/p/BUY44Xqg1V2/?taken-by=gunwebsites
URL:https://guncalendars.com/event/nikolay-makarov-74-born-4/
CATEGORIES:Firearms Inventor
ATTACH;FMTTYPE=image/jpeg:https://guncalendars.com/wp-content/uploads/2017/08/IMG_20170522_020255_498.jpg
END:VEVENT
BEGIN:VEVENT
DTSTART;VALUE=DATE:20190529
DTEND;VALUE=DATE:20190530
DTSTAMP:20260423T100624
CREATED:20190603T041531Z
LAST-MODIFIED:20190603T042307Z
UID:6974-1559088000-1559174399@guncalendars.com
SUMMARY:Paul Mauser  (Died)
DESCRIPTION:Paul Mauser\nJune 27\, 1838 – May 29\, 1914 \n1889 – Germany Gewehr 98 and Karabiner 98k\n1889 – 7.65×53mm Mauser rifle cartridges\n1892 – 7×57mm Mauser rifle cartridges
URL:https://guncalendars.com/event/paul-mauser-born-4/
CATEGORIES:Firearms Inventor
ATTACH;FMTTYPE=image/jpeg:https://guncalendars.com/wp-content/uploads/2018/07/Gun-Inventors-Diamonds-03-Paul-Mauser.jpg
END:VEVENT
END:VCALENDAR