BEGIN:VCALENDAR
VERSION:2.0
PRODID:-//Gun Calendars - ECPv6.6.2//NONSGML v1.0//EN
CALSCALE:GREGORIAN
METHOD:PUBLISH
X-ORIGINAL-URL:https://guncalendars.com
X-WR-CALDESC:Events for Gun Calendars
REFRESH-INTERVAL;VALUE=DURATION:PT1H
X-Robots-Tag:noindex
X-PUBLISHED-TTL:PT1H
BEGIN:VTIMEZONE
TZID:UTC
BEGIN:STANDARD
TZOFFSETFROM:+0000
TZOFFSETTO:+0000
TZNAME:UTC
DTSTART:20190101T000000
END:STANDARD
END:VTIMEZONE
BEGIN:VEVENT
DTSTART;TZID=UTC:20190404T000000
DTEND;TZID=UTC:20190404T000000
DTSTAMP:20260423T033432
CREATED:20180529T103444Z
LAST-MODIFIED:20180529T103444Z
UID:5170-1554336000-1554336000@guncalendars.com
SUMMARY:Roy E. Weatherby (77) Died
DESCRIPTION:Roy E. Weatherby(September 4\, 1910 – April 4\, 1988)\nage 77\nRoy founded Weatherby\, Inc. In 1945 \n@weatherbyinc\n#GunChannels\n#GunLegends #TalesOfTheGun\n#KnowGuns #GunLife #GunHistory \n\nhttps://www.instagram.com/p/BSejWwdgm2C/?taken-by=gunwebsites
URL:https://guncalendars.com/event/roy-e-weatherby-77-died-4/
CATEGORIES:Firearms Inventor
ATTACH;FMTTYPE=image/jpeg:https://guncalendars.com/wp-content/uploads/2017/08/IMG_20150404_115430.jpg
END:VEVENT
BEGIN:VEVENT
DTSTART;VALUE=DATE:20190405
DTEND;VALUE=DATE:20190406
DTSTAMP:20260423T033432
CREATED:20190102T064405Z
LAST-MODIFIED:20190102T064612Z
UID:6356-1554422400-1554508799@guncalendars.com
SUMMARY:Arisaka Nariakira (Born)
DESCRIPTION:Arisaka Nariakira \nApril 5\, 1852 – Jan 12\, 1915 \nJapan \n1897 – Type 30 Rifle \n \n\n\n 
URL:https://guncalendars.com/event/arisaka-nariakira-died-4/
CATEGORIES:Firearms Inventor
ATTACH;FMTTYPE=image/jpeg:https://guncalendars.com/wp-content/uploads/2018/07/Gun-Inventors-Diamonds-07-Arisaka-Nariakira.jpg
END:VEVENT
BEGIN:VEVENT
DTSTART;VALUE=DATE:20190407
DTEND;VALUE=DATE:20190408
DTSTAMP:20260423T033432
CREATED:20181204T010854Z
LAST-MODIFIED:20181204T011335Z
UID:6265-1554595200-1554681599@guncalendars.com
SUMMARY:Herman Johannes Krag (born)
DESCRIPTION:Herman Krag\nOle Herman Johannes Krag\nApril 7\, 1837 – Dec 9\, 1916\nNorway \n1886\, Krag–Petersson Rifle\n1872\,Krag–Jørgensen Rifle
URL:https://guncalendars.com/event/herman-johannes-krag-born/
CATEGORIES:Firearms Inventor
ATTACH;FMTTYPE=image/jpeg:https://guncalendars.com/wp-content/uploads/2018/07/Gun-Inventors-Diamonds-02-Herman-Krag.jpg
END:VEVENT
BEGIN:VEVENT
DTSTART;VALUE=DATE:20190409
DTEND;VALUE=DATE:20190410
DTSTAMP:20260423T033432
CREATED:20190409T030126Z
LAST-MODIFIED:20190409T030126Z
UID:6694-1554768000-1554854399@guncalendars.com
SUMMARY:Sergei Gavrilovich Simonov - Born
DESCRIPTION:Sergei Gavrilovich Simonov – Born\nApril 9\, 1894 – May 6\, 1986 \nSergei Gavrilovich Simonov\, Russia \n1945 – SKS
URL:https://guncalendars.com/event/sergei-gavrilovich-simonov-born/
CATEGORIES:Firearms Inventor
ATTACH;FMTTYPE=image/jpeg:https://guncalendars.com/wp-content/uploads/2018/07/Gun-Inventors-Diamonds-09-Sergei-Simonov.jpg
END:VEVENT
BEGIN:VEVENT
DTSTART;VALUE=DATE:20190414
DTEND;VALUE=DATE:20190415
DTSTAMP:20260423T033432
CREATED:20170415T004506Z
LAST-MODIFIED:20180603T005049Z
UID:5754-1555200000-1555286399@guncalendars.com
SUMMARY:Sergei Mosin\, Born (1849)
DESCRIPTION:Sergei Ivanovich Mosin\nСерге́й Ива́нович Мо́син\nApril (2 or 14)\, 1849 – Feb 8\, 1902 (52) \nMosin was a weapons designer at Tula who collaborated with Nagant to design the Mosin Nagant rifle \n#MosinNagant\n#RussianGuns \nhttps://www.instagram.com/p/Be8xG7bnCuf/?taken-by=gunwebsites
URL:https://guncalendars.com/event/sergei-mosin-born-1849-3/
CATEGORIES:Firearms Inventor
ATTACH;FMTTYPE=image/jpeg:https://guncalendars.com/wp-content/uploads/2018/06/IMG_20180208_134140_017.jpg
END:VEVENT
BEGIN:VEVENT
DTSTART;VALUE=DATE:20190415
DTEND;VALUE=DATE:20190416
DTSTAMP:20260423T033432
CREATED:20190624T225029Z
LAST-MODIFIED:20190624T225029Z
UID:7103-1555286400-1555372799@guncalendars.com
SUMMARY:Jean LeMat (born)
DESCRIPTION:Jean Alexandre LeMat \nApril 15\, 1821 – July 28\, 1895 \nborn in France \n1843 – immigrated to the United States \nOct 21\, 1856 – Grapeshot revolver patented
URL:https://guncalendars.com/event/jean-lemat-born/
CATEGORIES:Firearms Inventor
ATTACH;FMTTYPE=image/png:https://guncalendars.com/wp-content/uploads/2019/06/LeMat.png
END:VEVENT
BEGIN:VEVENT
DTSTART;TZID=UTC:20190424T000000
DTEND;TZID=UTC:20190424T000000
DTSTAMP:20260423T033432
CREATED:20180529T103613Z
LAST-MODIFIED:20190425T023859Z
UID:5477-1556064000-1556064000@guncalendars.com
SUMMARY:Eugene Stoner (74) Died
DESCRIPTION:Eugene Morrison Stoner(November 22\, 1922 – April 24\, 1997) \nAmerican firearms designer who is most associated with the development of the AR-15 rifle that was adopted by the US military as the M16
URL:https://guncalendars.com/event/eugene-stoner-74-died-4/
CATEGORIES:Firearms Inventor
ATTACH;FMTTYPE=image/jpeg:https://guncalendars.com/wp-content/uploads/2018/07/Gun-Inventors-Spades-11-Jack-Eugene-Stoner.jpg
END:VEVENT
BEGIN:VEVENT
DTSTART;VALUE=DATE:20190427
DTEND;VALUE=DATE:20190428
DTSTAMP:20260423T033432
CREATED:20180830T093611Z
LAST-MODIFIED:20190102T053849Z
UID:6183-1556323200-1556409599@guncalendars.com
SUMMARY:Henry Quackenbush (Born)
DESCRIPTION:Henry Quackenbush\nApril 27\, 1847 – Sept 8\, 1933 (86) \n1876 – father of the mass produced air gun
URL:https://guncalendars.com/event/henry-quackenbush-died-4-2/
CATEGORIES:Firearms Inventor
ATTACH;FMTTYPE=image/jpeg:https://guncalendars.com/wp-content/uploads/2018/07/Gun-Inventors-Clubs-06-Henry-Quackenbush.jpg
END:VEVENT
END:VCALENDAR