BEGIN:VCALENDAR
VERSION:2.0
PRODID:-//Gun Calendars - ECPv6.6.2//NONSGML v1.0//EN
CALSCALE:GREGORIAN
METHOD:PUBLISH
X-ORIGINAL-URL:https://guncalendars.com
X-WR-CALDESC:Events for Gun Calendars
REFRESH-INTERVAL;VALUE=DURATION:PT1H
X-Robots-Tag:noindex
X-PUBLISHED-TTL:PT1H
BEGIN:VTIMEZONE
TZID:UTC
BEGIN:STANDARD
TZOFFSETFROM:+0000
TZOFFSETTO:+0000
TZNAME:UTC
DTSTART:20190101T000000
END:STANDARD
END:VTIMEZONE
BEGIN:VEVENT
DTSTART;TZID=UTC:20190203T000000
DTEND;TZID=UTC:20190203T000000
DTSTAMP:20260422T200158
CREATED:20180529T103504Z
LAST-MODIFIED:20180529T103504Z
UID:5242-1549152000-1549152000@guncalendars.com
SUMMARY:Hudson Maxim (74) Born
DESCRIPTION:Hudson Maxim(February 3\, 1853 – May 6\, 1927)\nInvented Smokeless Gun Powder (in the USA) in 1890 \n*Brother of the Machine Gun Inventor\n**Uncle of the Suppressor Inventor\n***No left hand (he blew it off inventing explosives) \n#SmokelessPowder\n#GunPowder\n#Maxim \n\nhttps://www.instagram.com/p/BQGh-qrD7EN/?taken-by=gunwebsites
URL:https://guncalendars.com/event/hudson-maxim-74-born-4/
CATEGORIES:Firearms Inventor
ATTACH;FMTTYPE=image/jpeg:https://guncalendars.com/wp-content/uploads/2017/08/IMG_20170204_125205_720.jpg
END:VEVENT
BEGIN:VEVENT
DTSTART;TZID=UTC:20190205T000000
DTEND;TZID=UTC:20190205T000000
DTSTAMP:20260422T200158
CREATED:20180529T103507Z
LAST-MODIFIED:20180529T103507Z
UID:5250-1549324800-1549324800@guncalendars.com
SUMMARY:Sir Hiram Maxim (76) Born
DESCRIPTION:Sir Hiram Stevens Maxim(Feb 5\, 1840 – Nov 24\, 1916) \nInvented the Maxim Gun\nIn 1883: the first recoil-operated machine gun \n* Father of Suppressor Inventor\n** Brother of Smokeless Gun Powder Inventor\n#Maxim #MachineGun\n#1stMachineGun \n\nhttps://www.instagram.com/p/BQGdFacjuZm/?taken-by=gunwebsites \n 
URL:https://guncalendars.com/event/sir-hiram-maxim-76-born-4/
CATEGORIES:Firearms Inventor
ATTACH;FMTTYPE=image/jpeg:https://guncalendars.com/wp-content/uploads/2017/08/IMG_20170204_120919_731.jpg
END:VEVENT
BEGIN:VEVENT
DTSTART;VALUE=DATE:20190208
DTEND;VALUE=DATE:20190209
DTSTAMP:20260422T200158
CREATED:20170209T004506Z
LAST-MODIFIED:20180603T005743Z
UID:5764-1549584000-1549670399@guncalendars.com
SUMMARY:Sergei Mosin\, Died at 52 (1902)
DESCRIPTION:Sergei Ivanovich Mosin\nСерге́й Ива́нович Мо́син\nApril (2 or 14)\, 1849 – Feb 8\, 1902 (52) \nMosin was a weapons designer at Tula who collaborated with Nagant to design the Mosin Nagant rifle \n#MosinNagant\n#RussianGuns \nhttps://www.instagram.com/p/Be8xG7bnCuf/?taken-by=gunwebsites
URL:https://guncalendars.com/event/sergei-mosin-born-1849-4-2-4/
CATEGORIES:Firearms Inventor
ATTACH;FMTTYPE=image/jpeg:https://guncalendars.com/wp-content/uploads/2018/06/IMG_20180208_134140_017.jpg
END:VEVENT
BEGIN:VEVENT
DTSTART;VALUE=DATE:20190214
DTEND;VALUE=DATE:20190215
DTSTAMP:20260422T200158
CREATED:20190131T054953Z
LAST-MODIFIED:20190131T055930Z
UID:6448-1550102400-1550188799@guncalendars.com
SUMMARY:Elmer Keith – Died
DESCRIPTION:Elmer Keith – Died \nElmer Keith\n– March 8\, 1899 – February 14\, 1984 (85)\n– During World War II\, was an inspector at the Ogden\, Utah Arsenal\n– Rifles that he inspected are cartouche stamped with the initials “OGEK” in a rectangular box \nCreator of the: \n\n1935 – .357 Magnum cartridge\n1956 – .44 Magnum cartridge\n1963 – .41 Magnum cartridge\n\n1956 – Ruger Model 29 .44 Magnum single action Blackhawk revolver
URL:https://guncalendars.com/event/elmer-keith-died/
CATEGORIES:Author,Firearms Inventor
ATTACH;FMTTYPE=image/jpeg:https://guncalendars.com/wp-content/uploads/2019/01/elmer-keith.jpg
END:VEVENT
BEGIN:VEVENT
DTSTART;VALUE=DATE:20190215
DTEND;VALUE=DATE:20190216
DTSTAMP:20260422T200158
CREATED:20190131T072630Z
LAST-MODIFIED:20190131T074051Z
UID:6465-1550188800-1550275199@guncalendars.com
SUMMARY:Dick Casull - Born
DESCRIPTION:Richard J. “Dick” Casull\nFebruary 15\, 1931 – May 6\, 2018 \nGunsmith and Wildcat Cartridge Developer\nCreator of the .454 Casull cartridge & More.. \n1957 – .454 Casull cartridge\n1966 – Casull Model 290\n– 290-round detachable pan magazine\n– MSRP $1060 !!\n– only 87 manufactured\n1967 – all production of Model 290 stopped\n1970 – American-180\, AM-180\, or A180\n– 177-round pan magazine\n–  fires at 1200 rounds per minute\n1971 – Casull developed a mini-revolver design\n– Rocky Mountain Arms Corp\n– RMAC of Salt Lake City\, Utah\n1975 – Rocky Mountain ceased operation\n1978 – Casull became partners with Wayne Baker in Freedom Arms\, based in Freedom\, Wyoming\n1983 – Freedom Arms Model 83\, 5-shot prototypes on Ruger Super Blackhawk frames chambered in .454 Casull\n1988 – Freedom Arms ended mini revolver production \nlverveer
URL:https://guncalendars.com/event/dick-casull-born/
CATEGORIES:Firearms Inventor
ATTACH;FMTTYPE=image/jpeg:https://guncalendars.com/wp-content/uploads/2019/01/Casull.jpg
END:VEVENT
BEGIN:VEVENT
DTSTART;VALUE=DATE:20190215
DTEND;VALUE=DATE:20190216
DTSTAMP:20260422T200158
CREATED:20190131T075009Z
LAST-MODIFIED:20190131T075009Z
UID:6486-1550188800-1550275199@guncalendars.com
SUMMARY:Maxwell Atchisson - Died (73)
DESCRIPTION:Feb 17\, 1930 – Feb 15\, 2003 \nMaxwell G. Atchisson – (73) \n\nAA12 (Atchisson Assault 12)\,\nLightning Link\,\n1972 – .22 caliber conversion kit for the AR-15\ngranted twenty-four patents\n\nne Gun
URL:https://guncalendars.com/event/maxwell-atchisson-died-73/
CATEGORIES:Firearms Inventor
ATTACH;FMTTYPE=image/jpeg:https://guncalendars.com/wp-content/uploads/2018/07/Gun-Inventors-Clubs-13-King-Maxwell-Atchisson.jpg
END:VEVENT
BEGIN:VEVENT
DTSTART;VALUE=DATE:20190216
DTEND;VALUE=DATE:20190217
DTSTAMP:20260422T200158
CREATED:20190102T044528Z
LAST-MODIFIED:20190131T082114Z
UID:6320-1550275200-1550361599@guncalendars.com
SUMMARY:John Cantius Garand (Died)
DESCRIPTION:John Cantius Garand \nJan 1\, 1888 – Feb 16\, 1974 (86) \n \nCanada / USA \n1928 M1 Garand \nOne of only seven individuals have invented firearms adopted by the United States Military
URL:https://guncalendars.com/event/john-cantius-garand-born-4/
CATEGORIES:Firearms Inventor
ATTACH;FMTTYPE=image/jpeg:https://guncalendars.com/wp-content/uploads/2018/07/Gun-Inventors-Spades-09-John-Garand.jpg
END:VEVENT
BEGIN:VEVENT
DTSTART;TZID=UTC:20190217T000000
DTEND;TZID=UTC:20190217T000000
DTSTAMP:20260422T200158
CREATED:20180529T103548Z
LAST-MODIFIED:20180529T103548Z
UID:5391-1550361600-1550361600@guncalendars.com
SUMMARY:Hiram Percy Maxim (66) Died
DESCRIPTION:Hiram Percy MaximSept 2\, 1869 – Feb 17\, 1936 \nage 66 \n* He was the son of Sir Hiram Stevens Maxim\, inventor of the Maxim Machine gun \n\n\nHiram Percy Maxim patented a suppressor for firearms in 1908 Also invented a muffler for gasoline engines.\nMaxim created the ARRL in 1914 to pass messages via amateur radio\, allowing them to travel farther than any single station’s reach.\nMaxim founded the Amateur Cinema League in 1926#Suppressor #StopTheNoise #QuietLife #CanLifestyle\n\n\nhttps://www.instagram.com/p/BJ3FxzSg_79/?taken-by=gunwebsites
URL:https://guncalendars.com/event/hiram-percy-maxim-66-died-4/
CATEGORIES:Firearms Inventor
ATTACH;FMTTYPE=image/png:https://guncalendars.com/wp-content/uploads/2017/08/Maxum.png
END:VEVENT
BEGIN:VEVENT
DTSTART;VALUE=DATE:20190217
DTEND;VALUE=DATE:20190218
DTSTAMP:20260422T200158
CREATED:20190131T075009Z
LAST-MODIFIED:20190131T075408Z
UID:6494-1550361600-1550447999@guncalendars.com
SUMMARY:Maxwell Atchisson - Born
DESCRIPTION:Feb 17\, 1930 – Feb 15\, 2003 \nMaxwell G. Atchisson – (73) \n\nAA12 (Atchisson Assault 12)\,\nLightning Link\,\n1972 – .22 caliber conversion kit for the AR-15\ngranted twenty-four patents\n\nne Gun
URL:https://guncalendars.com/event/maxwell-atchisson-died-73-3-2-3/
CATEGORIES:Firearms Inventor
ATTACH;FMTTYPE=image/jpeg:https://guncalendars.com/wp-content/uploads/2018/07/Gun-Inventors-Clubs-13-King-Maxwell-Atchisson.jpg
END:VEVENT
BEGIN:VEVENT
DTSTART;TZID=UTC:20190220T000000
DTEND;TZID=UTC:20190220T000000
DTSTAMP:20260422T200158
CREATED:20180529T103358Z
LAST-MODIFIED:20190131T080401Z
UID:5000-1550620800-1550620800@guncalendars.com
SUMMARY:Yevgeny Dragunov - Born
DESCRIPTION:Yevgeny Fyodorovich Dragunov (71)(Евге́ний Фёдорович Драгуно́в)\nBorn Feb 20\, 1920 – Aug 4\, 1991 \n1939 – Began military service\n1959 – Dragunov submitted his design for the SVD\n1963 – SVD accepted into Soviet military service \n \nhttps://www.instagram.com/p/BXaVLjOgRY7/?taken-by=gunwebsites \nYevgeny Dragunov (71)
URL:https://guncalendars.com/event/yevgeny-dragunov-born-2-2/
CATEGORIES:Firearms Inventor
ATTACH;FMTTYPE=image/jpeg:https://guncalendars.com/wp-content/uploads/2017/08/1424456744864.jpg
END:VEVENT
BEGIN:VEVENT
DTSTART;VALUE=DATE:20190221
DTEND;VALUE=DATE:20190222
DTSTAMP:20260422T200158
CREATED:20180619T032600Z
LAST-MODIFIED:20180619T033147Z
UID:5936-1550707200-1550793599@guncalendars.com
SUMMARY:Eugene Reising (Died)
DESCRIPTION:Eugene Reising\nNov 26\, 1884 – Feb 21\, 1967 \nUSA \n\nM50 Reising 1938\nOne of only seven individuals have invented firearms adopted by the United States Military\nmore than 60 firearm patents\n\nWorked with: \n\nHarrington & Richardson\nMossberg & Sons\nMarlin\nSavage\nStevens
URL:https://guncalendars.com/event/eugene-reising-born-2-2-2-2/
CATEGORIES:Firearms Inventor
ATTACH;FMTTYPE=image/jpeg:https://guncalendars.com/wp-content/uploads/2018/06/Gun-Inventors-Spades-09-Eugene-Reising.jpg
END:VEVENT
BEGIN:VEVENT
DTSTART;VALUE=DATE:20190223
DTEND;VALUE=DATE:20190224
DTSTAMP:20260422T200159
CREATED:20190131T081315Z
LAST-MODIFIED:20190131T081538Z
UID:6511-1550880000-1550966399@guncalendars.com
SUMMARY:Ludwig Vorgrimler - Died (71)
DESCRIPTION:Ludwig Vorgrimler\nSeptember 7\, 1912 – February 23\, 1983 (71) \n \nGerman Firearm Inventor \n\n1950 – CETME
URL:https://guncalendars.com/event/ludwig-vorgrimler-died-71/
CATEGORIES:Firearms Inventor
ATTACH;FMTTYPE=image/jpeg:https://guncalendars.com/wp-content/uploads/2019/01/CETME-Vorgrimler.jpg
END:VEVENT
BEGIN:VEVENT
DTSTART;VALUE=DATE:20190224
DTEND;VALUE=DATE:20190225
DTSTAMP:20260422T200159
CREATED:20190131T093754Z
LAST-MODIFIED:20190131T094027Z
UID:6562-1550966400-1551052799@guncalendars.com
SUMMARY:James Paris Lee - Died (72)
DESCRIPTION:James Paris Lee – (72)\nAugust 9\, 1831 – February 24\, 1904 \nInventor invented action and magazine used in Lee–Metford and Lee–Enfield \n1843 – built his first gun at the age of 12 \n1861 – Developed a breech loading cartridge conversion for the Springfield musket  Model 1861\nAcquired a contract for 1\,000 rifles from the US Army during the American Civil War. \nNovember 4th\, 1879 – patent #221\,328 for the vertical box magazine
URL:https://guncalendars.com/event/james-paris-lee-died-72/
CATEGORIES:Firearms Inventor
ATTACH;FMTTYPE=image/jpeg:https://guncalendars.com/wp-content/uploads/2019/01/Lee.jpg
END:VEVENT
BEGIN:VEVENT
DTSTART;TZID=UTC:20190226T000000
DTEND;TZID=UTC:20190226T000000
DTSTAMP:20260422T200159
CREATED:20180529T103459Z
LAST-MODIFIED:20180529T103459Z
UID:5222-1551139200-1551139200@guncalendars.com
SUMMARY:Richard Gatling (85) Died
DESCRIPTION:Richard Gatling(Sep 12\, 1818 – Feb 26\, 1903) \nGatling gun was named after him\n#GatlingGun\n#GunWebsites \n\nhttps://www.instagram.com/p/BQ_RjZkgdtD/?taken-by=gunwebsites
URL:https://guncalendars.com/event/richard-gatling-85-died-4/
CATEGORIES:Firearms Inventor
ATTACH;FMTTYPE=image/jpeg:https://guncalendars.com/wp-content/uploads/2017/08/1425004775748.jpg
END:VEVENT
BEGIN:VEVENT
DTSTART;VALUE=DATE:20190228
DTEND;VALUE=DATE:20190301
DTSTAMP:20260422T200159
CREATED:20180619T035048Z
LAST-MODIFIED:20180619T035403Z
UID:5957-1551312000-1551398399@guncalendars.com
SUMMARY:Henry Deringer (Died)
DESCRIPTION:Henry Deringer\nOctober 26\, 1786 – February 28\, 1868 \nUSA \n\nDerringer Pistol 1825
URL:https://guncalendars.com/event/henry-deringer-died-2/
CATEGORIES:Firearms Inventor
ATTACH;FMTTYPE=image/jpeg:https://guncalendars.com/wp-content/uploads/2018/06/Gun-Inventors-Hearts-01-Ace-Henry-Deringer.jpg
END:VEVENT
END:VCALENDAR