BEGIN:VCALENDAR
VERSION:2.0
PRODID:-//Gun Calendars - ECPv6.6.2//NONSGML v1.0//EN
CALSCALE:GREGORIAN
METHOD:PUBLISH
X-WR-CALNAME:Gun Calendars
X-ORIGINAL-URL:https://guncalendars.com
X-WR-CALDESC:Events for Gun Calendars
REFRESH-INTERVAL;VALUE=DURATION:PT1H
X-Robots-Tag:noindex
X-PUBLISHED-TTL:PT1H
BEGIN:VTIMEZONE
TZID:UTC
BEGIN:STANDARD
TZOFFSETFROM:+0000
TZOFFSETTO:+0000
TZNAME:UTC
DTSTART:20190101T000000
END:STANDARD
END:VTIMEZONE
BEGIN:VEVENT
DTSTART;VALUE=DATE:20190101
DTEND;VALUE=DATE:20190102
DTSTAMP:20260422T184035
CREATED:20190102T044528Z
LAST-MODIFIED:20190102T044528Z
UID:6316-1546300800-1546387199@guncalendars.com
SUMMARY:John Cantius Garand (Born)
DESCRIPTION:John Cantius Garand \nJan 1\, 1888 – Feb 16\, 1974 \nnnnboern \nCanada / USA \n1928 M1 Garand \nOne of only seven individuals have invented firearms adopted by the United States Military
URL:https://guncalendars.com/event/john-cantius-garand-born/
CATEGORIES:Firearms Inventor
ATTACH;FMTTYPE=image/jpeg:https://guncalendars.com/wp-content/uploads/2018/07/Gun-Inventors-Spades-09-John-Garand.jpg
END:VEVENT
BEGIN:VEVENT
DTSTART;VALUE=DATE:20190102
DTEND;VALUE=DATE:20190103
DTSTAMP:20260422T184035
CREATED:20180619T015307Z
LAST-MODIFIED:20180619T015307Z
UID:5873-1546387200-1546473599@guncalendars.com
SUMMARY:Christian Sharps (Born)
DESCRIPTION:Christian Sharps\nJan 2\, 1810 – March 12\, 1874 \nUSA \n\nSharps rifle\, 4 barrel derringer 1851\n1855 the first commercially successful breech-loading rifle\nfifteen firearms-related patents
URL:https://guncalendars.com/event/christian-sharps-born/
CATEGORIES:Firearms Inventor,Gun Industry
ATTACH;FMTTYPE=image/jpeg:https://guncalendars.com/wp-content/uploads/2018/06/Gun-Inventors-Spades-03-Christian-Sharps.jpg
END:VEVENT
BEGIN:VEVENT
DTSTART;VALUE=DATE:20190104
DTEND;VALUE=DATE:20190105
DTSTAMP:20260422T184035
CREATED:20190624T104337Z
LAST-MODIFIED:20190624T104337Z
UID:7040-1546560000-1546646399@guncalendars.com
SUMMARY:George Hyde (born)
DESCRIPTION:George Hyde\nJanuary 4\, 1888 – December 1963 \n1935 – co-owner of Leonard & Hydrnr\nWWII – chief gun designer for the Inland Division of General Motors (GM) \n Guns \n\nModel 33\, prototype – Submachine Gun\nAug 4\, 1936.- Model 35\, a prototype Submachine Gun\n1941 – Bendix Hyde carbine\nFeb\, 1941 – M2 Hyde – Submachine Gun\nMay 1942 – FP-45 Liberator pistol\nDec 12\, 1942 – M3 grease gun\n\n 
URL:https://guncalendars.com/event/george-hyde-born/
CATEGORIES:Firearms Inventor
END:VEVENT
BEGIN:VEVENT
DTSTART;VALUE=DATE:20190108
DTEND;VALUE=DATE:20190109
DTSTAMP:20260422T184035
CREATED:20181029T102434Z
LAST-MODIFIED:20190102T055407Z
UID:6233-1546905600-1546991999@guncalendars.com
SUMMARY:David “Carbine” Marshall Williams (died)
DESCRIPTION:David “Carbine” Marshall Williams\nNov 13\, 1900 – Jan 8\, 1975 \nfloating chamber and the short-stroke piston \nColt Manufacturing Company\, U.S. Ordnance Department\, Remington Arms\, Winchester Repeating Arms
URL:https://guncalendars.com/event/david-carbine-marshall-williams-born-3-4/
CATEGORIES:Firearms Inventor
ATTACH;FMTTYPE=image/jpeg:https://guncalendars.com/wp-content/uploads/2018/07/Gun-Inventors-Hearts-10-Carbine-Marshall-Williams.jpg
END:VEVENT
BEGIN:VEVENT
DTSTART;VALUE=DATE:20190109
DTEND;VALUE=DATE:20190110
DTSTAMP:20260422T184035
CREATED:20180619T034255Z
LAST-MODIFIED:20180619T034600Z
UID:5946-1546992000-1547078399@guncalendars.com
SUMMARY:Melvin M. Johnson Jr (Died)
DESCRIPTION:Melvin M. Johnson Jr\nAug 9\, 1909 – Jan 9\, 1965 \nUSA \n\nM1941 Johnson rifle 1935\nOne of only seven individuals have invented firearms adopted by the United States Military\nMarine Corps Reserve in 1933 as a Second Lieutenant\ncompleted Harvard Law School in 1934\n\nWorked With: \n\nWinchester\nArmalite
URL:https://guncalendars.com/event/melvin-m-johnson-jr-born-3-2-2/
CATEGORIES:Firearms Inventor
ATTACH;FMTTYPE=image/jpeg:https://guncalendars.com/wp-content/uploads/2018/06/Gun-Inventors-Spades-10-Melvin-M-Johnson-Jr.jpg
END:VEVENT
BEGIN:VEVENT
DTSTART;VALUE=DATE:20190110
DTEND;VALUE=DATE:20190111
DTSTAMP:20260422T184035
CREATED:20180529T103403Z
LAST-MODIFIED:20180619T020734Z
UID:5017-1547078400-1547164799@guncalendars.com
SUMMARY:Samuel Colt (48) Died
DESCRIPTION:July 19\, 1814 – January 10\, 1862 \nSamuel Colt born\, inventor of the first practical revolver\,\n1814 – 1862 \n \nhttps://www.instagram.com/p/BWyEtXagtX6/?taken-by=gunwebsites
URL:https://guncalendars.com/event/samuel-colt-48-died/
CATEGORIES:Firearms Inventor
ATTACH;FMTTYPE=image/jpeg:https://guncalendars.com/wp-content/uploads/2017/08/1424096712269.jpg
END:VEVENT
BEGIN:VEVENT
DTSTART;VALUE=DATE:20190112
DTEND;VALUE=DATE:20190113
DTSTAMP:20260422T184035
CREATED:20190102T064405Z
LAST-MODIFIED:20190102T064405Z
UID:6352-1547251200-1547337599@guncalendars.com
SUMMARY:Arisaka Nariakira (Died)
DESCRIPTION:Arisaka Nariakira \nApril 5\, 1852 – Jan 12\, 1915 \nJapan \n1897 – Type 30 Rifle \n \n\n\n 
URL:https://guncalendars.com/event/arisaka-nariakira-died/
CATEGORIES:Firearms Inventor
ATTACH;FMTTYPE=image/jpeg:https://guncalendars.com/wp-content/uploads/2018/07/Gun-Inventors-Diamonds-07-Arisaka-Nariakira.jpg
END:VEVENT
BEGIN:VEVENT
DTSTART;TZID=UTC:20190113T000000
DTEND;TZID=UTC:20190113T000000
DTSTAMP:20260422T184035
CREATED:20180529T103429Z
LAST-MODIFIED:20180529T103429Z
UID:5114-1547337600-1547337600@guncalendars.com
SUMMARY:Wilhelm Mauser (48) Died
DESCRIPTION:Wilhelm MauserMay 2\, 1834 – Jan 13\, 1882\nDesigned the Mauser Model 1871 rifle \n#Rifle #Mauser #RealGuns #FirearmsHistory \n\nhttps://www.instagram.com/p/BTo2YO0gXCZ/?taken-by=gunwebsites
URL:https://guncalendars.com/event/wilhelm-mauser-48-died-4/
CATEGORIES:Firearms Inventor
ATTACH;FMTTYPE=image/jpeg:https://guncalendars.com/wp-content/uploads/2017/08/1433802009014.jpg
END:VEVENT
BEGIN:VEVENT
DTSTART;VALUE=DATE:20190114
DTEND;VALUE=DATE:20190115
DTSTAMP:20260422T184035
CREATED:20180619T023903Z
LAST-MODIFIED:20180619T024205Z
UID:5912-1547424000-1547510399@guncalendars.com
SUMMARY:Christopher Spencer (Died)
DESCRIPTION:Christopher Miner Spencer\nJune 20\, 1833 – Jan 14\, 1922 \nUSA \n\nSpencer repeating rifle 1860 Colt\nSpencer Arms Company\nRoper Repeating Arms Company
URL:https://guncalendars.com/event/christopher-spencer-died-2/
CATEGORIES:Firearms Inventor
ATTACH;FMTTYPE=image/jpeg:https://guncalendars.com/wp-content/uploads/2018/06/Gun-Inventors-Spades-07-Christopher-Spencer.jpg
END:VEVENT
BEGIN:VEVENT
DTSTART;VALUE=DATE:20190115
DTEND;VALUE=DATE:20190116
DTSTAMP:20260422T184035
CREATED:20190102T050257Z
LAST-MODIFIED:20190102T050317Z
UID:6326-1547510400-1547596799@guncalendars.com
SUMMARY:Horace Smith (Died)
DESCRIPTION:Horace Smith \nOct 28\, 1808 – Jan 15\, 1893 (85)
URL:https://guncalendars.com/event/horace-smith-died/
CATEGORIES:Firearms Inventor
ATTACH;FMTTYPE=image/jpeg:https://guncalendars.com/wp-content/uploads/2018/07/Gun-Inventors-Hearts-04-Horace-Smith-gun.jpg
END:VEVENT
BEGIN:VEVENT
DTSTART;TZID=UTC:20190123T000000
DTEND;TZID=UTC:20190123T000000
DTSTAMP:20260422T184035
CREATED:20180529T103524Z
LAST-MODIFIED:20180603T004332Z
UID:5311-1548201600-1548201600@guncalendars.com
SUMMARY:John Moses Browning (71) Born
DESCRIPTION:John Moses Browning\nJan. 23\, 1855 – Nov. 26\, 1926 \nhttps://www.instagram.com/p/BeTJTS5nrWn/?taken-by=gunwebsites
URL:https://guncalendars.com/event/john-moses-browning-71-born-4/
CATEGORIES:Firearms Inventor
ATTACH;FMTTYPE=image/jpeg:https://guncalendars.com/wp-content/uploads/2018/06/1516725727257.jpg
END:VEVENT
BEGIN:VEVENT
DTSTART;VALUE=DATE:20190127
DTEND;VALUE=DATE:20190128
DTSTAMP:20260422T184035
CREATED:20190102T055656Z
LAST-MODIFIED:20190102T055948Z
UID:6346-1548547200-1548633599@guncalendars.com
SUMMARY:Alexander Henry (Died)
DESCRIPTION:Alexander Henry \nJune 4\, 1818 – Jan 27\, 1894 \nScotland \n1870 Martini – Henry
URL:https://guncalendars.com/event/alexander-henry-born-6/
CATEGORIES:Firearms Inventor
ATTACH;FMTTYPE=image/jpeg:https://guncalendars.com/wp-content/uploads/2018/07/Gun-Inventors-Clubs-03-Alexander-Henry.jpg
END:VEVENT
BEGIN:VEVENT
DTSTART;VALUE=DATE:20190130
DTEND;VALUE=DATE:20190131
DTSTAMP:20260422T184035
CREATED:20190118T174513Z
LAST-MODIFIED:20190118T175537Z
UID:6370-1548806400-1548892799@guncalendars.com
SUMMARY:Ferdinand Mannlicher - Born
DESCRIPTION:Ferdinand Mannlicher – Born\nJan 30\, 1848\nInventor
URL:https://guncalendars.com/event/ferdinand-mannlicher-borninventor/
CATEGORIES:Firearms Inventor
END:VEVENT
END:VCALENDAR