BEGIN:VCALENDAR
VERSION:2.0
PRODID:-//Gun Calendars - ECPv6.6.2//NONSGML v1.0//EN
CALSCALE:GREGORIAN
METHOD:PUBLISH
X-WR-CALNAME:Gun Calendars
X-ORIGINAL-URL:https://guncalendars.com
X-WR-CALDESC:Events for Gun Calendars
REFRESH-INTERVAL;VALUE=DURATION:PT1H
X-Robots-Tag:noindex
X-PUBLISHED-TTL:PT1H
BEGIN:VTIMEZONE
TZID:UTC
BEGIN:STANDARD
TZOFFSETFROM:+0000
TZOFFSETTO:+0000
TZNAME:UTC
DTSTART:20180101T000000
END:STANDARD
END:VTIMEZONE
BEGIN:VEVENT
DTSTART;VALUE=DATE:20181104
DTEND;VALUE=DATE:20181105
DTSTAMP:20260422T184103
CREATED:20181204T012552Z
LAST-MODIFIED:20181204T015934Z
UID:6287-1541289600-1541375999@guncalendars.com
SUMMARY:Gordon Ingram (died)
DESCRIPTION:Gordon Ingram\nDec 30\, 1924 – Nov 4\, 2004\nUSA \n1964 – MAC-10
URL:https://guncalendars.com/event/gordon-ingram-born-4/
CATEGORIES:Firearms Inventor
ATTACH;FMTTYPE=image/jpeg:https://guncalendars.com/wp-content/uploads/2018/07/Gun-Inventors-Hearts-13-King-Gordon-Ingram.jpg
END:VEVENT
BEGIN:VEVENT
DTSTART;VALUE=DATE:20181104
DTEND;VALUE=DATE:20181105
DTSTAMP:20260422T184103
CREATED:20181204T012552Z
LAST-MODIFIED:20181204T015952Z
UID:6289-1541289600-1541375999@guncalendars.com
SUMMARY:Gordon Ingram (died)
DESCRIPTION:Gordon Ingram\nDec 30\, 1924 – Nov 4\, 2004\nUSA \n1964 – MAC-10
URL:https://guncalendars.com/event/gordon-ingram-born-6/
CATEGORIES:Firearms Inventor
ATTACH;FMTTYPE=image/jpeg:https://guncalendars.com/wp-content/uploads/2018/07/Gun-Inventors-Hearts-13-King-Gordon-Ingram.jpg
END:VEVENT
BEGIN:VEVENT
DTSTART;TZID=UTC:20181110T000000
DTEND;TZID=UTC:20181110T000000
DTSTAMP:20260422T184103
CREATED:20180529T103514Z
LAST-MODIFIED:20180529T103514Z
UID:5277-1541808000-1541808000@guncalendars.com
SUMMARY:Mikhail Kalashnikov (94) Born
DESCRIPTION:Mikhail Timofeyevich KalashnikovМихаи́л Тимофе́евич Кала́шников\n(November 10\, 1919 – December 23\, 2013) \nRussian general\, inventor\, military engineer\, writer and small arms designer. \n\nhttps://www.instagram.com/p/BOaQlNgDIRr/?taken-by=gunwebsites \nhttps://www.instagram.com/p/96YSUUqhck/?taken-by=gunwebsites \n  \n 
URL:https://guncalendars.com/event/mikhail-kalashnikov-94-born-3/
CATEGORIES:Firearms Inventor
ATTACH;FMTTYPE=image/jpeg:https://guncalendars.com/wp-content/uploads/2017/08/IMG_20161224_114147.jpg
END:VEVENT
BEGIN:VEVENT
DTSTART;VALUE=DATE:20181113
DTEND;VALUE=DATE:20181114
DTSTAMP:20260422T184103
CREATED:20181029T102434Z
LAST-MODIFIED:20181029T104212Z
UID:6225-1542067200-1542153599@guncalendars.com
SUMMARY:David “Carbine” Marshall Williams (born)
DESCRIPTION:David “Carbine” Marshall Williams\nNov 13\, 1900 – Jan 8\, 1975	 \nfloating chamber and the short-stroke piston				 \nColt Manufacturing Company\, U.S. Ordnance Department\,  Remington Arms\, Winchester Repeating Arms
URL:https://guncalendars.com/event/david-carbine-marshall-williams-born/
CATEGORIES:Firearms Inventor
ATTACH;FMTTYPE=image/jpeg:https://guncalendars.com/wp-content/uploads/2018/07/Gun-Inventors-Hearts-10-Carbine-Marshall-Williams.jpg
END:VEVENT
BEGIN:VEVENT
DTSTART;VALUE=DATE:20181122
DTEND;VALUE=DATE:20181123
DTSTAMP:20260422T184103
CREATED:20181029T112430Z
LAST-MODIFIED:20181029T112514Z
UID:6239-1542844800-1542931199@guncalendars.com
SUMMARY:Carl Walther (born)
DESCRIPTION:Carl Walther\nNov 22\, 1858 – July 9\, 1915 \n1886 founded the firm of Carl Walther GmbH\, (Walther)\n1908 Germany Model 1 (.25acp)
URL:https://guncalendars.com/event/carl-walther-born/
CATEGORIES:Firearms Inventor
ATTACH;FMTTYPE=image/jpeg:https://guncalendars.com/wp-content/uploads/2018/07/Gun-Inventors-Clubs-07-Carl-Walther.jpg
END:VEVENT
BEGIN:VEVENT
DTSTART;VALUE=DATE:20181122
DTEND;VALUE=DATE:20181123
DTSTAMP:20260422T184103
CREATED:20181122T103612Z
LAST-MODIFIED:20181029T052042Z
UID:6223-1542844800-1542931199@guncalendars.com
SUMMARY:Eugene Stoner (74) Born
DESCRIPTION:Eugene Morrison Stoner(November 22\, 1922 – April 24\, 1997) \nAmerican firearms designer who is most associated with the development of the AR-15 rifle that was adopted by the US military as the M16 \n 
URL:https://guncalendars.com/event/eugene-stoner-74-born-3-2/
CATEGORIES:Firearms Inventor
END:VEVENT
BEGIN:VEVENT
DTSTART;TZID=UTC:20181124T000000
DTEND;TZID=UTC:20181124T000000
DTSTAMP:20260422T184103
CREATED:20180529T103507Z
LAST-MODIFIED:20180529T103507Z
UID:5253-1543017600-1543017600@guncalendars.com
SUMMARY:Sir Hiram Maxim (76) Died
DESCRIPTION:Sir Hiram Stevens Maxim(Feb 5\, 1840 – Nov 24\, 1916) \nInvented the Maxim Gun\nIn 1883: the first recoil-operated machine gun \n* Father of Suppressor Inventor\n** Brother of Smokeless Gun Powder Inventor\n#Maxim #MachineGun\n#1stMachineGun \n\nhttps://www.instagram.com/p/BQGdFacjuZm/?taken-by=gunwebsites \n 
URL:https://guncalendars.com/event/sir-hiram-maxim-76-died-3/
CATEGORIES:Firearms Inventor
ATTACH;FMTTYPE=image/jpeg:https://guncalendars.com/wp-content/uploads/2017/08/IMG_20170204_120919_731.jpg
END:VEVENT
BEGIN:VEVENT
DTSTART;TZID=UTC:20181126T000000
DTEND;TZID=UTC:20181126T000000
DTSTAMP:20260422T184103
CREATED:20180529T103525Z
LAST-MODIFIED:20180529T103525Z
UID:5314-1543190400-1543190400@guncalendars.com
SUMMARY:John Moses Browning (71) Died
DESCRIPTION:John Moses Browning\nJan. 23\, 1855 – Nov. 26\, 1926
URL:https://guncalendars.com/event/john-moses-browning-71-died-3/
CATEGORIES:Firearms Inventor
ATTACH;FMTTYPE=image/jpeg:https://guncalendars.com/wp-content/uploads/2017/08/IMG_20161127_013013.jpg
END:VEVENT
BEGIN:VEVENT
DTSTART;VALUE=DATE:20181126
DTEND;VALUE=DATE:20181127
DTSTAMP:20260422T184103
CREATED:20180619T032600Z
LAST-MODIFIED:20180619T032600Z
UID:5926-1543190400-1543276799@guncalendars.com
SUMMARY:Eugene Reising (Born)
DESCRIPTION:Eugene Reising\nNov 26\, 1884 – Feb 21\, 1967 \nUSA \n\nM50 Reising 1938\nOne of only seven individuals have invented firearms adopted by the United States Military\nmore than 60 firearm patents\n\nWorked with: \n\nHarrington & Richardson\nMossberg & Sons\nMarlin\nSavage\nStevens
URL:https://guncalendars.com/event/eugene-reising-born/
CATEGORIES:Firearms Inventor
ATTACH;FMTTYPE=image/jpeg:https://guncalendars.com/wp-content/uploads/2018/06/Gun-Inventors-Spades-09-Eugene-Reising.jpg
END:VEVENT
BEGIN:VEVENT
DTSTART;TZID=UTC:20181130T000000
DTEND;TZID=UTC:20181130T000000
DTSTAMP:20260422T184103
CREATED:20180529T103614Z
LAST-MODIFIED:20180619T020211Z
UID:5480-1543536000-1543536000@guncalendars.com
SUMMARY:Oliver Winchester (born)
DESCRIPTION:Oliver Fisher Winchester (90)November 30\, 1810 – December 11\, 1880 \nWinchester started as a clothing manufacturer in New York City and New Haven\, Connecticut \nWinchester manufactured and marketed the Winchester repeating rifle\, which was a descendant of the Volcanic rifle .\nWinchester aquired a division of Smith & Wesson firearms which was failing financially with one of their newly patented arms known as the Volcanic \nWinchester started the Volcanic Repeating Arms Company\, in 1855. In 1857\, Winchester relocated to New Haven\, changing the name to New Haven Arms Company. \nInitially\, the Volcanic cartridge: a hollow conical ball filled with black powder and sealed by a cork primer\, was outpaced rival technology \nThe poor performance and reliability of the .25 and .32 caliber cartridges used in the pistol and rifle models respectively\, was little match for the competitors’ larger calibers.\nThe Volcanic was the 9mm of it’s time. \nBenjamin Tyler Henry\, a Winchester employee\, improved the Volcanic repeating rifle by enlarging the frame and magazine to accommodate seventeen of his newly redesigned\, all-brass cased .44 caliber rimfire cartridges.\nHenry’s new .44 cartridge put the new company on the map\, and Henry’s ingenuity was rewarded with a patent in his name October 16\, 1860\, for what became the famous Henry rifle. \nThe Henry rifle was manufactured for almost six years with a total production of approximately 12\,000 rifles\, both iron and brass frame models. \nThe company was renamed the Winchester Repeating Arms Company.\nIn 1866\, employee Nelson King’s new improved patent remedied flaws in the Henry rifle by incorporating a loading gate on the side of the frame \nThe first Winchester rifle was the Model 1866\, the Yellow Boy. \nWinchester died on December 11\, 1880 \nOwnership of the company passed to his son\, William Wirt Winchester\, who died in March of the next year. William’s wife Sarah believed the family was cursed by the spirits killed by the Winchester rifle\, and moved to San Jose\, California\, where she began building a chaotic mansion now known as the Winchester Mystery House with her inheritance\, intending to confuse the evil spirits \n#Winchester
URL:https://guncalendars.com/event/oliver-winchester-born-3/
CATEGORIES:Firearms Inventor
ATTACH;FMTTYPE=image/jpeg:https://guncalendars.com/wp-content/uploads/2017/11/IMG_20171130_125207_8791.jpg
END:VEVENT
END:VCALENDAR