BEGIN:VCALENDAR
VERSION:2.0
PRODID:-//Gun Calendars - ECPv6.6.2//NONSGML v1.0//EN
CALSCALE:GREGORIAN
METHOD:PUBLISH
X-ORIGINAL-URL:https://guncalendars.com
X-WR-CALDESC:Events for Gun Calendars
REFRESH-INTERVAL;VALUE=DURATION:PT1H
X-Robots-Tag:noindex
X-PUBLISHED-TTL:PT1H
BEGIN:VTIMEZONE
TZID:UTC
BEGIN:STANDARD
TZOFFSETFROM:+0000
TZOFFSETTO:+0000
TZNAME:UTC
DTSTART:20180101T000000
END:STANDARD
END:VTIMEZONE
BEGIN:VEVENT
DTSTART;TZID=UTC:20180902T000000
DTEND;TZID=UTC:20180902T000000
DTSTAMP:20260422T013251
CREATED:20180529T103547Z
LAST-MODIFIED:20180529T103547Z
UID:5385-1535846400-1535846400@guncalendars.com
SUMMARY:Hiram Percy Maxim (66) Born
DESCRIPTION:Hiram Percy MaximSept 2\, 1869 – Feb 17\, 1936 \nage 66 \n* He was the son of Sir Hiram Stevens Maxim\, inventor of the Maxim Machine gun \n\n\nHiram Percy Maxim patented a suppressor for firearms in 1908 Also invented a muffler for gasoline engines.\nMaxim created the ARRL in 1914 to pass messages via amateur radio\, allowing them to travel farther than any single station’s reach.\nMaxim founded the Amateur Cinema League in 1926#Suppressor #StopTheNoise #QuietLife #CanLifestyle\n\n\nhttps://www.instagram.com/p/BJ3FxzSg_79/?taken-by=gunwebsites
URL:https://guncalendars.com/event/hiram-percy-maxim-66-born-3/
CATEGORIES:Firearms Inventor
ATTACH;FMTTYPE=image/png:https://guncalendars.com/wp-content/uploads/2017/08/Maxum.png
END:VEVENT
BEGIN:VEVENT
DTSTART;TZID=UTC:20180904T000000
DTEND;TZID=UTC:20180904T000000
DTSTAMP:20260422T013251
CREATED:20180529T103443Z
LAST-MODIFIED:20180529T103443Z
UID:5165-1536019200-1536019200@guncalendars.com
SUMMARY:Roy E. Weatherby (77) Born
DESCRIPTION:Roy E. Weatherby(September 4\, 1910 – April 4\, 1988)\nage 77\nRoy founded Weatherby\, Inc. In 1945 \n@weatherbyinc\n#GunChannels\n#GunLegends #TalesOfTheGun\n#KnowGuns #GunLife #GunHistory \n\nhttps://www.instagram.com/p/BSejWwdgm2C/?taken-by=gunwebsites
URL:https://guncalendars.com/event/roy-e-weatherby-77-born-3/
CATEGORIES:Firearms Inventor
ATTACH;FMTTYPE=image/jpeg:https://guncalendars.com/wp-content/uploads/2017/08/IMG_20150404_115430.jpg
END:VEVENT
BEGIN:VEVENT
DTSTART;VALUE=DATE:20180906
DTEND;VALUE=DATE:20180907
DTSTAMP:20260422T013251
CREATED:20180830T093405Z
LAST-MODIFIED:20180830T093405Z
UID:6146-1536192000-1536278399@guncalendars.com
SUMMARY:Hiram Berdan (Born)
DESCRIPTION:Hiram Berdan\nSept 6\, 1824 – March 31\, 1893 \nMarch 20\, 1866 – Berdan centerfire primer
URL:https://guncalendars.com/event/hiram-berdan-born/
CATEGORIES:Firearms Inventor
ATTACH;FMTTYPE=image/jpeg:https://guncalendars.com/wp-content/uploads/2018/07/Gun-Inventors-Clubs-04-Hiram-Berdan.jpg
END:VEVENT
BEGIN:VEVENT
DTSTART;TZID=UTC:20180907T000000
DTEND;TZID=UTC:20180907T000000
DTSTAMP:20260422T013251
CREATED:20180529T103545Z
LAST-MODIFIED:20180529T103545Z
UID:5381-1536278400-1536278400@guncalendars.com
SUMMARY:Uziel Gal (79) Died
DESCRIPTION:Mr. Uziel Gal(December 15\, 1923 – September 7\, 2002)\nUziel Gal (79)\, the inventor of Israel’s Uzi submachine gun\, \nUziel (Uzi) Gal was born on 15 December 1923\, as Gothard Glas.\nHe died in Philadelphia of a long illness \n#UZI #Uzi9mm \n\n  \nhttps://www.instagram.com/p/BKEWVmIgs5_/?taken-by=gunwebsites
URL:https://guncalendars.com/event/uziel-gal-79-died-3/
CATEGORIES:Firearms Inventor
ATTACH;FMTTYPE=image/png:https://guncalendars.com/wp-content/uploads/2017/08/uzi.png
END:VEVENT
BEGIN:VEVENT
DTSTART;VALUE=DATE:20180908
DTEND;VALUE=DATE:20180909
DTSTAMP:20260422T013251
CREATED:20180830T093611Z
LAST-MODIFIED:20180830T095647Z
UID:6148-1536364800-1536451199@guncalendars.com
SUMMARY:Henry Quackenbush (Died)
DESCRIPTION:Henry Quackenbush\nApril 27\, 1847 – Sept 8\, 1933 (86) \n1876 – father of the mass produced air gun \nssdd
URL:https://guncalendars.com/event/henry-quackenbush-died/
CATEGORIES:Firearms Inventor
ATTACH;FMTTYPE=image/jpeg:https://guncalendars.com/wp-content/uploads/2018/07/Gun-Inventors-Clubs-06-Henry-Quackenbush.jpg
END:VEVENT
BEGIN:VEVENT
DTSTART;TZID=UTC:20180912T000000
DTEND;TZID=UTC:20180912T000000
DTSTAMP:20260422T013251
CREATED:20180529T103457Z
LAST-MODIFIED:20180529T103457Z
UID:5217-1536710400-1536710400@guncalendars.com
SUMMARY:Richard Gatling (85) Born
DESCRIPTION:Richard Gatling(Sep 12\, 1818 – Feb 26\, 1903) \nGatling gun was named after him\n#GatlingGun\n#GunWebsites \n\nhttps://www.instagram.com/p/BQ_RjZkgdtD/?taken-by=gunwebsites
URL:https://guncalendars.com/event/richard-gatling-85-born-3/
CATEGORIES:Firearms Inventor
ATTACH;FMTTYPE=image/jpeg:https://guncalendars.com/wp-content/uploads/2017/08/1425004775748.jpg
END:VEVENT
BEGIN:VEVENT
DTSTART;VALUE=DATE:20180912
DTEND;VALUE=DATE:20180913
DTSTAMP:20260422T013251
CREATED:20180830T094117Z
LAST-MODIFIED:20180830T100645Z
UID:6201-1536710400-1536796799@guncalendars.com
SUMMARY:Hugo Schmeisser (Died)
DESCRIPTION:Hugo Schmeisser\nSept 24\, 1884 – Sept 12\, 1953 (69) \n\n1928 MP-28\n1938 MP-43\n1944 Sturmgewehr 44\n\nn \n 
URL:https://guncalendars.com/event/hugo-schmeisser-born-2/
CATEGORIES:Firearms Inventor
ATTACH;FMTTYPE=image/jpeg:https://guncalendars.com/wp-content/uploads/2018/07/Gun-Inventors-Diamonds-08-Hugo-Schmeisser.jpg
END:VEVENT
BEGIN:VEVENT
DTSTART;VALUE=DATE:20180922
DTEND;VALUE=DATE:20180923
DTSTAMP:20260422T013251
CREATED:20180822T092754Z
LAST-MODIFIED:20180830T093625Z
UID:6144-1537574400-1537660799@guncalendars.com
SUMMARY:Arthur William Savage (Died)
DESCRIPTION:May 13\, 1857 – Sept 22\, 1938\n1899 Savage Model 99 lever-action rifle\n1894 Savage started Savage Arms \n\nMarlin Repeating Arms
URL:https://guncalendars.com/event/arthur-william-savage-died/
CATEGORIES:Firearms Inventor
ATTACH;FMTTYPE=image/jpeg:https://guncalendars.com/wp-content/uploads/2018/07/Gun-Inventors-Hearts-07-Arthur-Savage.jpg
END:VEVENT
BEGIN:VEVENT
DTSTART;VALUE=DATE:20180922
DTEND;VALUE=DATE:20180923
DTSTAMP:20260422T013251
CREATED:20180830T093814Z
LAST-MODIFIED:20180830T100320Z
UID:6150-1537574400-1537660799@guncalendars.com
SUMMARY:Kijirō Nambu (Born)
DESCRIPTION:Kijirō Nambu\nSept 22\, 1869 – May 1\, 1949 (80) \n1902 nnnthe “John Browning of Japan”\n1914 Type 3 Heavy Machine Gun\n1922 Type 11 Light Machine Gun in\n1927 Nambu Arms Manufacturing Company in Tokyo
URL:https://guncalendars.com/event/kijiro-nambu-born/
CATEGORIES:Firearms Inventor
ATTACH;FMTTYPE=image/jpeg:https://guncalendars.com/wp-content/uploads/2018/07/Gun-Inventors-Clubs-08-Kijiro-Nambu.jpg
END:VEVENT
BEGIN:VEVENT
DTSTART;VALUE=DATE:20180924
DTEND;VALUE=DATE:20180925
DTSTAMP:20260422T013251
CREATED:20180830T094117Z
LAST-MODIFIED:20180830T100505Z
UID:6152-1537747200-1537833599@guncalendars.com
SUMMARY:Hugo Schmeisser (Born)
DESCRIPTION:Hugo Schmeisser\nSept 24\, 1884 – Sept 12\, 1953 (69) \n\n1928 MP-28\n1938 MP-43\n1944 Sturmgewehr 44\n\nn \n 
URL:https://guncalendars.com/event/hugo-schmeisser-born/
CATEGORIES:Firearms Inventor
ATTACH;FMTTYPE=image/jpeg:https://guncalendars.com/wp-content/uploads/2018/07/Gun-Inventors-Diamonds-08-Hugo-Schmeisser.jpg
END:VEVENT
END:VCALENDAR