BEGIN:VCALENDAR
VERSION:2.0
PRODID:-//Gun Calendars - ECPv6.6.2//NONSGML v1.0//EN
CALSCALE:GREGORIAN
METHOD:PUBLISH
X-WR-CALNAME:Gun Calendars
X-ORIGINAL-URL:https://guncalendars.com
X-WR-CALDESC:Events for Gun Calendars
REFRESH-INTERVAL;VALUE=DURATION:PT1H
X-Robots-Tag:noindex
X-PUBLISHED-TTL:PT1H
BEGIN:VTIMEZONE
TZID:UTC
BEGIN:STANDARD
TZOFFSETFROM:+0000
TZOFFSETTO:+0000
TZNAME:UTC
DTSTART:20180101T000000
END:STANDARD
END:VTIMEZONE
BEGIN:VEVENT
DTSTART;VALUE=DATE:20180611
DTEND;VALUE=DATE:20180612
DTSTAMP:20260421T111428
CREATED:20181204T011729Z
LAST-MODIFIED:20181204T012118Z
UID:6277-1528675200-1528761599@guncalendars.com
SUMMARY:Reverend John Forsyth (died)
DESCRIPTION:Reverend John Forsyth\nDec 28\, 1769 – June 11\, 1843\nScotland \n1805 – Percussion Cap ignition system
URL:https://guncalendars.com/event/reverend-john-forsyth-born-4/
CATEGORIES:Firearms Inventor
ATTACH;FMTTYPE=image/jpeg:https://guncalendars.com/wp-content/uploads/2018/07/Gun-Inventors-Clubs-02-Reverend-John-Forsyth.jpg
END:VEVENT
BEGIN:VEVENT
DTSTART;VALUE=DATE:20180620
DTEND;VALUE=DATE:20180621
DTSTAMP:20260421T111428
CREATED:20180619T023903Z
LAST-MODIFIED:20180619T023903Z
UID:5904-1529452800-1529539199@guncalendars.com
SUMMARY:Christopher Spencer (Born)
DESCRIPTION:Christopher Miner Spencer\nJune 20\, 1833 – Jan 14\, 1922 \nUSA \n\nSpencer repeating rifle 1860 Colt\nSpencer Arms Company\nRoper Repeating Arms Company
URL:https://guncalendars.com/event/christopher-spencer-born/
CATEGORIES:Firearms Inventor
ATTACH;FMTTYPE=image/jpeg:https://guncalendars.com/wp-content/uploads/2018/06/Gun-Inventors-Spades-07-Christopher-Spencer.jpg
END:VEVENT
BEGIN:VEVENT
DTSTART;TZID=UTC:20180621T000000
DTEND;TZID=UTC:20180621T000000
DTSTAMP:20260421T111428
CREATED:20180529T103407Z
LAST-MODIFIED:20180529T103407Z
UID:5033-1529539200-1529539200@guncalendars.com
SUMMARY:William Ruger (86) - Born
DESCRIPTION:William RugerBorn June 21\, 1916 – July 6\, 2002 \n\nhttps://www.instagram.com/p/BWNnwycgWPY/?taken-by=gunwebsites
URL:https://guncalendars.com/event/william-ruger-86-born-3/
CATEGORIES:Firearms Inventor
ATTACH;FMTTYPE=image/jpeg:https://guncalendars.com/wp-content/uploads/2017/08/IMG_20170706_100430_006.jpg
END:VEVENT
BEGIN:VEVENT
DTSTART;VALUE=DATE:20180621
DTEND;VALUE=DATE:20180622
DTSTAMP:20260421T111428
CREATED:20180619T031410Z
LAST-MODIFIED:20180619T032249Z
UID:5924-1529539200-1529625599@guncalendars.com
SUMMARY:John Thompson (Died)
DESCRIPTION:John Taliaferro Thompson\nDec 31\, 1860 – June 21\, 1940 \nUSA \n\nThompson submachine gun 1920\nOne of only seven individuals have invented firearms adopted by the United States Military
URL:https://guncalendars.com/event/john-thompson-died-2-2/
CATEGORIES:Firearms Inventor
ATTACH;FMTTYPE=image/jpeg:https://guncalendars.com/wp-content/uploads/2018/06/Gun-Inventors-Spades-08-John-Taliaferro-Thompson.jpg
END:VEVENT
END:VCALENDAR