BEGIN:VCALENDAR
VERSION:2.0
PRODID:-//Gun Calendars - ECPv6.6.2//NONSGML v1.0//EN
CALSCALE:GREGORIAN
METHOD:PUBLISH
X-ORIGINAL-URL:https://guncalendars.com
X-WR-CALDESC:Events for Gun Calendars
REFRESH-INTERVAL;VALUE=DURATION:PT1H
X-Robots-Tag:noindex
X-PUBLISHED-TTL:PT1H
BEGIN:VTIMEZONE
TZID:UTC
BEGIN:STANDARD
TZOFFSETFROM:+0000
TZOFFSETTO:+0000
TZNAME:UTC
DTSTART:20180101T000000
END:STANDARD
END:VTIMEZONE
BEGIN:VEVENT
DTSTART;TZID=UTC:20180404T000000
DTEND;TZID=UTC:20180404T000000
DTSTAMP:20260420T173102
CREATED:20180529T103444Z
LAST-MODIFIED:20180529T103444Z
UID:5169-1522800000-1522800000@guncalendars.com
SUMMARY:Roy E. Weatherby (77) Died
DESCRIPTION:Roy E. Weatherby(September 4\, 1910 – April 4\, 1988)\nage 77\nRoy founded Weatherby\, Inc. In 1945 \n@weatherbyinc\n#GunChannels\n#GunLegends #TalesOfTheGun\n#KnowGuns #GunLife #GunHistory \n\nhttps://www.instagram.com/p/BSejWwdgm2C/?taken-by=gunwebsites
URL:https://guncalendars.com/event/roy-e-weatherby-77-died-3/
CATEGORIES:Firearms Inventor
ATTACH;FMTTYPE=image/jpeg:https://guncalendars.com/wp-content/uploads/2017/08/IMG_20150404_115430.jpg
END:VEVENT
BEGIN:VEVENT
DTSTART;VALUE=DATE:20180407
DTEND;VALUE=DATE:20180408
DTSTAMP:20260420T173102
CREATED:20181204T010854Z
LAST-MODIFIED:20181204T011436Z
UID:6267-1523059200-1523145599@guncalendars.com
SUMMARY:Herman Johannes Krag (born)
DESCRIPTION:Herman Krag\nOle Herman Johannes Krag\nApril 7\, 1837 – Dec 9\, 1916\nNorway \n1886\, Krag–Petersson Rifle\n1872\,Krag–Jørgensen Rifle
URL:https://guncalendars.com/event/herman-johannes-krag-born-3/
CATEGORIES:Firearms Inventor
ATTACH;FMTTYPE=image/jpeg:https://guncalendars.com/wp-content/uploads/2018/07/Gun-Inventors-Diamonds-02-Herman-Krag.jpg
END:VEVENT
BEGIN:VEVENT
DTSTART;VALUE=DATE:20180414
DTEND;VALUE=DATE:20180415
DTSTAMP:20260420T173102
CREATED:20170415T004506Z
LAST-MODIFIED:20180603T005014Z
UID:5755-1523664000-1523750399@guncalendars.com
SUMMARY:Sergei Mosin\, Born (1849)
DESCRIPTION:Sergei Ivanovich Mosin\nСерге́й Ива́нович Мо́син\nApril (2 or 14)\, 1849 – Feb 8\, 1902 (52) \nMosin was a weapons designer at Tula who collaborated with Nagant to design the Mosin Nagant rifle \n#MosinNagant\n#RussianGuns \nhttps://www.instagram.com/p/Be8xG7bnCuf/?taken-by=gunwebsites
URL:https://guncalendars.com/event/sergei-mosin-born-1849-2/
CATEGORIES:Firearms Inventor
ATTACH;FMTTYPE=image/jpeg:https://guncalendars.com/wp-content/uploads/2018/06/IMG_20180208_134140_017.jpg
END:VEVENT
BEGIN:VEVENT
DTSTART;TZID=UTC:20180424T000000
DTEND;TZID=UTC:20180424T000000
DTSTAMP:20260420T173102
CREATED:20180529T103613Z
LAST-MODIFIED:20180529T103613Z
UID:5476-1524528000-1524528000@guncalendars.com
SUMMARY:Eugene Stoner (74) Died
DESCRIPTION:Eugene Morrison Stoner(November 22\, 1922 – April 24\, 1997) \nAmerican firearms designer who is most associated with the development of the AR-15 rifle that was adopted by the US military as the M16 \n 
URL:https://guncalendars.com/event/eugene-stoner-74-died-3/
CATEGORIES:Firearms Inventor
END:VEVENT
END:VCALENDAR