BEGIN:VCALENDAR
VERSION:2.0
PRODID:-//Gun Calendars - ECPv6.6.2//NONSGML v1.0//EN
CALSCALE:GREGORIAN
METHOD:PUBLISH
X-WR-CALNAME:Gun Calendars
X-ORIGINAL-URL:https://guncalendars.com
X-WR-CALDESC:Events for Gun Calendars
REFRESH-INTERVAL;VALUE=DURATION:PT1H
X-Robots-Tag:noindex
X-PUBLISHED-TTL:PT1H
BEGIN:VTIMEZONE
TZID:UTC
BEGIN:STANDARD
TZOFFSETFROM:+0000
TZOFFSETTO:+0000
TZNAME:UTC
DTSTART:20180101T000000
END:STANDARD
END:VTIMEZONE
BEGIN:VEVENT
DTSTART;TZID=UTC:20180607T000000
DTEND;TZID=UTC:20180607T000000
DTSTAMP:20260421T082313
CREATED:20180529T103415Z
LAST-MODIFIED:20180529T103415Z
UID:5064-1528329600-1528329600@guncalendars.com
SUMMARY:Emil Franzi (78) Died
DESCRIPTION:Emil Franzi’s passing marks the end of an era. He was a lion in word\, deed and spirit. There are few men like him around anymore. – Bruce Ash\n(July 4\, 1939 – June 7\, 2017) \nEmil Franzi died on Wednesday\, June 7\, 2017 after a battle with cancer.\nHe was 78. \n\nhttps://www.instagram.com/p/BVMSNJ4gTZU/?taken-by=gunwebsites
URL:https://guncalendars.com/event/emil-franzi-78-died-3/
CATEGORIES:Famous People
ATTACH;FMTTYPE=image/jpeg:https://guncalendars.com/wp-content/uploads/2017/08/IMG_20170611_010529_848.jpg
END:VEVENT
BEGIN:VEVENT
DTSTART;VALUE=DATE:20180608
DTEND;VALUE=DATE:20180609
DTSTAMP:20260421T082313
CREATED:19350109T001507Z
LAST-MODIFIED:20180603T002316Z
UID:5723-1528416000-1528502399@guncalendars.com
SUMMARY:Elvis Aaron Presley (Born 1935)
DESCRIPTION:Elvis Aaron Presley\nJanuary 8\, 1935 – August 16\, 1977\nAmerican singer\, regarded as one of the most significant cultural icons of the 20th century \nElvis had a collection of 37 handguns\, an unknown number of rifles and one machine gun. \nElvis famously presented Richard Nixon with a commemorative Colt .45 \n \n#TCB\n#TakingCareOfBusiness \nhttps://www.instagram.com/p/BdwKe1FHnS7/?taken-by=gunwebsites
URL:https://guncalendars.com/event/elvis-aaron-presley-born-1935-3/
CATEGORIES:Famous People
ATTACH;FMTTYPE=image/jpeg:https://guncalendars.com/wp-content/uploads/2018/06/1515551000856.jpg
END:VEVENT
BEGIN:VEVENT
DTSTART;TZID=UTC:20180611T000000
DTEND;TZID=UTC:20180611T000000
DTSTAMP:20260421T082313
CREATED:20180529T103417Z
LAST-MODIFIED:20180529T103417Z
UID:5071-1528675200-1528675200@guncalendars.com
SUMMARY:John Wayne "Duke" (72) Died
DESCRIPTION:John Wayne “Duke”American film actor\, director\, and producer. \nBorn: May 26\, 1907\nDied: June 11\, 1979 \nBetween 1949 and 1973\nWayne was in more than 169 feature length films \n#JohnWayne #TheDuke #WesternMovies #Cowboy \n\nhttps://www.instagram.com/p/BUj2FibgFMo/?taken-by=gunwebsites
URL:https://guncalendars.com/event/john-wayne-duke-72-died-3/
CATEGORIES:Famous People
ATTACH;FMTTYPE=image/jpeg:https://guncalendars.com/wp-content/uploads/2017/08/IMG_20170526_081009_619.jpg
END:VEVENT
BEGIN:VEVENT
DTSTART;VALUE=DATE:20180626
DTEND;VALUE=DATE:20180627
DTSTAMP:20260421T082313
CREATED:20180619T040905Z
LAST-MODIFIED:20180619T040927Z
UID:5966-1529971200-1530057599@guncalendars.com
SUMMARY:Heller 10 Year Anniversary
DESCRIPTION:When and where is the Heller 10 Year Anniversary Celebration Banquet?\nThe Heller 10 Year Anniversary Celebration Banquet will be on June 26\, 2018\, at the City Club of Washington\, Washington D.C. \nWhat is the cost of attending?\nTicket Price Range: $95 – $450 \n \ngunchannels.com/event/202/heller-10-year-anniversary
URL:https://guncalendars.com/event/heller-10-year-anniversary/
CATEGORIES:2A Activist,Anniversary,Famous People,Firearms Laws,US Gun History
ATTACH;FMTTYPE=image/png:https://guncalendars.com/wp-content/uploads/2018/06/Heller.png
END:VEVENT
END:VCALENDAR