BEGIN:VCALENDAR
VERSION:2.0
PRODID:-//Gun Calendars - ECPv6.6.2//NONSGML v1.0//EN
CALSCALE:GREGORIAN
METHOD:PUBLISH
X-WR-CALNAME:Gun Calendars
X-ORIGINAL-URL:https://guncalendars.com
X-WR-CALDESC:Events for Gun Calendars
REFRESH-INTERVAL;VALUE=DURATION:PT1H
X-Robots-Tag:noindex
X-PUBLISHED-TTL:PT1H
BEGIN:VTIMEZONE
TZID:UTC
BEGIN:STANDARD
TZOFFSETFROM:+0000
TZOFFSETTO:+0000
TZNAME:UTC
DTSTART:20210101T000000
END:STANDARD
END:VTIMEZONE
BEGIN:VEVENT
DTSTART;TZID=UTC:20210220T100000
DTEND;TZID=UTC:20210220T140000
DTSTAMP:20260419T202715
CREATED:20140117T155248Z
LAST-MODIFIED:20210117T155852Z
UID:8914-1613815200-1613829600@guncalendars.com
SUMMARY:2nd Amendment Rally - Arizona
DESCRIPTION:since 2014 \n\nRidersUSA\nOpen Carry\n\nhttps://2ndamendmentrallyaz.com/
URL:https://guncalendars.com/event/2nd-amendment-rally-arizona/
CATEGORIES:2A Event / Rally
ATTACH;FMTTYPE=image/jpeg:https://guncalendars.com/wp-content/uploads/2021/01/Feb-20-2021-2A-Flyer-MV4.jpg
END:VEVENT
END:VCALENDAR