BEGIN:VCALENDAR
VERSION:2.0
PRODID:-//Gun Calendars - ECPv6.6.2//NONSGML v1.0//EN
CALSCALE:GREGORIAN
METHOD:PUBLISH
X-ORIGINAL-URL:https://guncalendars.com
X-WR-CALDESC:Events for Gun Calendars
REFRESH-INTERVAL;VALUE=DURATION:PT1H
X-Robots-Tag:noindex
X-PUBLISHED-TTL:PT1H
BEGIN:VTIMEZONE
TZID:UTC
BEGIN:STANDARD
TZOFFSETFROM:+0000
TZOFFSETTO:+0000
TZNAME:UTC
DTSTART:20200101T000000
END:STANDARD
END:VTIMEZONE
BEGIN:VEVENT
DTSTART;TZID=UTC:20200401T090000
DTEND;TZID=UTC:20200401T133000
DTSTAMP:20260423T023027
CREATED:20200302T142017Z
LAST-MODIFIED:20200302T142017Z
UID:7877-1585731600-1585747800@guncalendars.com
SUMMARY:Illinois Gun Owner Lobby Day
DESCRIPTION:Wednesday\, April 1\, 2020 at 9:00 AM – 1:30 PM CDT \n \nyBank of Springfield Center is a 7\,700-seat multi-purpose arena located in Springfield\, Illinois
URL:https://guncalendars.com/event/illinois-gun-owner-lobby-day/
CATEGORIES:2A Event / Rally
ATTACH;FMTTYPE=image/jpeg:https://guncalendars.com/wp-content/uploads/2020/03/2A-Rallys-2020-April-1-Illinois-scaled.jpg
END:VEVENT
END:VCALENDAR