BEGIN:VCALENDAR
VERSION:2.0
PRODID:-//Gun Calendars - ECPv6.6.2//NONSGML v1.0//EN
CALSCALE:GREGORIAN
METHOD:PUBLISH
X-ORIGINAL-URL:https://guncalendars.com
X-WR-CALDESC:Events for Gun Calendars
REFRESH-INTERVAL;VALUE=DURATION:PT1H
X-Robots-Tag:noindex
X-PUBLISHED-TTL:PT1H
BEGIN:VTIMEZONE
TZID:UTC
BEGIN:STANDARD
TZOFFSETFROM:+0000
TZOFFSETTO:+0000
TZNAME:UTC
DTSTART:20190101T000000
END:STANDARD
END:VTIMEZONE
BEGIN:VEVENT
DTSTART;TZID=UTC:20190920T080000
DTEND;TZID=UTC:20190922T153000
DTSTAMP:20260423T085551
CREATED:20190711T125427Z
LAST-MODIFIED:20190711T125430Z
UID:7137-1568966400-1569166200@guncalendars.com
SUMMARY:Gun Rights Policy Conference
DESCRIPTION:Gun Rights Policy Conference – Second Amendment Foundation\nhttps://www.saf.org \nGRPC 2019. Come meet national gun rights leaders and your fellow grassroots activists at the 34th Annual Gun Rights Policy Conference (GRPC 2019) in Phoenix\, Arizona at Sheraton Crescent on September 20\, 21\, & 22nd\, 2019 \nCome meet national gun rights leaders and your fellow grassroots activists at the 34th Annual Gun Rights Policy Conference (GRPC 2019) in Phoenix\, Arizona at Sheraton Crescent on September 20\, 21\, & 22nd\, 2019. This is your once-a-year chance to network\, get an insider look and plan pro-gun rights strategies for the coming year. Past GRPCs have outlined victory plans and made public the latest firearms trends.\n\nThey allow you a first-hand chance to hear movement leaders–and make your voice heard. This year we’ll take a look at critical issues such as: city gun bans\, “smart” guns\, concealed carry\, federal legislation\, legal actions\, gun show regulation and state and local activity.\n\nThe full roster of GRPC 2019 speakers has not yet been set.
URL:https://guncalendars.com/event/gun-rights-policy-conference/
CATEGORIES:2A Event / Rally
ATTACH;FMTTYPE=image/jpeg:https://guncalendars.com/wp-content/uploads/2019/07/mffffffffffffffffffffffffffffffffff-e1615596912834.jpg
END:VEVENT
END:VCALENDAR