BEGIN:VCALENDAR
VERSION:2.0
PRODID:-//Gun Calendars - ECPv6.6.2//NONSGML v1.0//EN
CALSCALE:GREGORIAN
METHOD:PUBLISH
X-ORIGINAL-URL:https://guncalendars.com
X-WR-CALDESC:Events for Gun Calendars
REFRESH-INTERVAL;VALUE=DURATION:PT1H
X-Robots-Tag:noindex
X-PUBLISHED-TTL:PT1H
BEGIN:VTIMEZONE
TZID:UTC
BEGIN:STANDARD
TZOFFSETFROM:+0000
TZOFFSETTO:+0000
TZNAME:UTC
DTSTART:20200101T000000
END:STANDARD
END:VTIMEZONE
BEGIN:VEVENT
DTSTART;TZID=UTC:20201024T110000
DTEND;TZID=UTC:20201024T140000
DTSTAMP:20260420T212302
CREATED:20200307T222454Z
LAST-MODIFIED:20200307T222454Z
UID:8150-1603537200-1603548000@guncalendars.com
SUMMARY:DC Rally II
DESCRIPTION:DC Rally is on for 10/24/20
URL:https://guncalendars.com/event/dc-rally-ii/
CATEGORIES:2A Event / Rally
ATTACH;FMTTYPE=image/jpeg:https://guncalendars.com/wp-content/uploads/2020/03/2a-rally-flag-sm.jpg
END:VEVENT
END:VCALENDAR