BEGIN:VCALENDAR
VERSION:2.0
PRODID:-//Gun Calendars - ECPv6.6.2//NONSGML v1.0//EN
CALSCALE:GREGORIAN
METHOD:PUBLISH
X-ORIGINAL-URL:https://guncalendars.com
X-WR-CALDESC:Events for Gun Calendars
REFRESH-INTERVAL;VALUE=DURATION:PT1H
X-Robots-Tag:noindex
X-PUBLISHED-TTL:PT1H
BEGIN:VTIMEZONE
TZID:UTC
BEGIN:STANDARD
TZOFFSETFROM:+0000
TZOFFSETTO:+0000
TZNAME:UTC
DTSTART:20200101T000000
END:STANDARD
END:VTIMEZONE
BEGIN:VEVENT
DTSTART;TZID=UTC:20200401T090000
DTEND;TZID=UTC:20200401T133000
DTSTAMP:20260422T195843
CREATED:20200302T142017Z
LAST-MODIFIED:20200302T142017Z
UID:7877-1585731600-1585747800@guncalendars.com
SUMMARY:Illinois Gun Owner Lobby Day
DESCRIPTION:Wednesday\, April 1\, 2020 at 9:00 AM – 1:30 PM CDT \n \nyBank of Springfield Center is a 7\,700-seat multi-purpose arena located in Springfield\, Illinois
URL:https://guncalendars.com/event/illinois-gun-owner-lobby-day/
CATEGORIES:2A Event / Rally
ATTACH;FMTTYPE=image/jpeg:https://guncalendars.com/wp-content/uploads/2020/03/2A-Rallys-2020-April-1-Illinois-scaled.jpg
END:VEVENT
BEGIN:VEVENT
DTSTART;TZID=UTC:20200407T100000
DTEND;TZID=UTC:20200407T120000
DTSTAMP:20260422T195843
CREATED:20200302T152434Z
LAST-MODIFIED:20200302T152536Z
UID:7917-1586253600-1586260800@guncalendars.com
SUMMARY:Gun Rights Rally Missouri
DESCRIPTION:Gun Rights RallyJefferson City\, MOTuesday April 7\, 202010a – NoonMissouri State Capitol \ns
URL:https://guncalendars.com/event/gun-rights-rally-missouri/
CATEGORIES:2A Event / Rally
ATTACH;FMTTYPE=image/jpeg:https://guncalendars.com/wp-content/uploads/2020/03/2A-Rallys-2020-April-7-Missouri.jpg
END:VEVENT
BEGIN:VEVENT
DTSTART;TZID=UTC:20200418T100000
DTEND;TZID=UTC:20200418T170000
DTSTAMP:20260422T195843
CREATED:20200302T152834Z
LAST-MODIFIED:20200302T152834Z
UID:7919-1587204000-1587229200@guncalendars.com
SUMMARY:2A Rally for your Rights Oklahoma
DESCRIPTION:2A Rally for your Rights \nState Capitol\, Oklahoma City
URL:https://guncalendars.com/event/2a-rally-for-your-rights-oklahoma/
CATEGORIES:2A Event / Rally
ATTACH;FMTTYPE=image/jpeg:https://guncalendars.com/wp-content/uploads/2020/03/2A-Rallys-2020-April-18-Oklahoma.jpg
END:VEVENT
BEGIN:VEVENT
DTSTART;TZID=UTC:20200418T110000
DTEND;TZID=UTC:20200418T130000
DTSTAMP:20260422T195843
CREATED:20200302T143103Z
LAST-MODIFIED:20200302T143103Z
UID:7883-1587207600-1587214800@guncalendars.com
SUMMARY:Rally to Defend the 2nd Amendment\, Minnesota
DESCRIPTION:Rally to Defend the 2nd Amendment\nSt Paul\, MN\nSaturday\, April 18\, 2020\n11:00 am – 1:00 pm\nState Capitol Rotunda\nsota
URL:https://guncalendars.com/event/rally-to-defend-the-2nd-amendment-minnesota/
CATEGORIES:2A Event / Rally
ATTACH;FMTTYPE=image/png:https://guncalendars.com/wp-content/uploads/2020/03/Rally-to-Defend-the-2nd-Amendment-2020.png
END:VEVENT
BEGIN:VEVENT
DTSTART;TZID=UTC:20200418T120000
DTEND;TZID=UTC:20200418T160000
DTSTAMP:20260422T195843
CREATED:20200302T142518Z
LAST-MODIFIED:20200302T142518Z
UID:7880-1587211200-1587225600@guncalendars.com
SUMMARY:March For Our Rights 3 - Washington 2A Rally
DESCRIPTION:Olympia\, WA\nSaturday\, April 18\, 2020\n12pm-4pm\nWashington State Capitol\n \nWashington State Capitol Building and Campus\,\n416 Sid Snyder Ave SW\nOlympia\, WA
URL:https://guncalendars.com/event/march-for-our-rights-3-washington-2a-rally/
CATEGORIES:2A Event / Rally
ATTACH;FMTTYPE=image/jpeg:https://guncalendars.com/wp-content/uploads/2020/03/Gun-Rally.jpg
END:VEVENT
BEGIN:VEVENT
DTSTART;TZID=UTC:20200425T080000
DTEND;TZID=UTC:20200425T170000
DTSTAMP:20260422T195843
CREATED:20200307T211111Z
LAST-MODIFIED:20200307T211128Z
UID:8104-1587801600-1587834000@guncalendars.com
SUMMARY:Gun-A-Thon
DESCRIPTION:April 25\, 2020 \nAshburn\, VA \nNorthern Virginia’s Premier Shooting Event \ngunathon.com\nFrom state legislatures and city councils to the United States Congress and the White House\, GOA represents the views of gun owners whenever their rights \n \nCome shoot with us and meet some of the biggest names in guns. There will be manufactures\, give aways\, and speakers. Be apart of the first Annual Gun-A-Thon. \nSpeakers include: Erich Pratt (GOA)\, Maj Toure (Black Guns Matter)\, Philip Van Cleave (VCDL)\, Jon Patton (The Gun Collective)\, Cheryl Todd (Gun Freedom Radio)\, Kevin Dixie (NOC Firearms)\, Aaron Proctor\, Reid Henrichs (Valor Ridge) \nSpecial Guest: Jason David Frank (Power Ranger’s)\, Eric Blandford (IV8888)\, The Gun Doctor\, Brickell Clark (American Gun Chic)\, Jared Yanis (Guns & Gadgets) Hank Strange\, OBNXS1\, Tivan (The Tivan Show)\, Silverback (Gorillas and Guns)\, Trill Toya\, Abby Lynn (Weaponized Wanderess)\, plus many more to be announced!
URL:https://guncalendars.com/event/gun-a-thon/
CATEGORIES:2A Event / Rally,Firearms Media Event
ATTACH;FMTTYPE=image/jpeg:https://guncalendars.com/wp-content/uploads/2020/03/Gun-a-thon-2020.jpg
END:VEVENT
BEGIN:VEVENT
DTSTART;TZID=UTC:20200425T100000
DTEND;TZID=UTC:20200425T120000
DTSTAMP:20260422T195843
CREATED:20200302T143341Z
LAST-MODIFIED:20200302T143502Z
UID:7886-1587808800-1587816000@guncalendars.com
SUMMARY:Patriot's Day 2A Rally in Ohio
DESCRIPTION:Patriot’s Day\nColumbus\, OH\nSaturday\, April 25\, 2020\n10am-12pm\nOhio Statehouse
URL:https://guncalendars.com/event/patriots-day-2a-rally-in-ohio/
CATEGORIES:2A Event / Rally
ATTACH;FMTTYPE=image/jpeg:https://guncalendars.com/wp-content/uploads/2020/03/2A-Rallys-2020-April-25-Ohio.jpg
END:VEVENT
BEGIN:VEVENT
DTSTART;TZID=UTC:20200430T080000
DTEND;TZID=UTC:20200503T170000
DTSTAMP:20260422T195843
CREATED:20200307T211624Z
LAST-MODIFIED:20200307T211624Z
UID:8107-1588233600-1588525200@guncalendars.com
SUMMARY:Girl & A Gun Annual Training Conference
DESCRIPTION:April 30 – May 3\, 2020 \nGrand Junction\, CO \nCameo Shooting and Education Complex \nA Girl & A Gun is a club by women shooters for women shooters. Through our network of caring and qualified instructors\, events\, clinics\, and training opportunities\, we offer women the ability to improve their marksmanship and make new friend
URL:https://guncalendars.com/event/girl-a-gun-annual-training-conference/
CATEGORIES:2A Event / Rally,Shooting Event
ATTACH;FMTTYPE=image/png:https://guncalendars.com/wp-content/uploads/2020/03/girl-and-gun-2020.png
END:VEVENT
BEGIN:VEVENT
DTSTART;TZID=UTC:20200430T080000
DTEND;TZID=UTC:20200503T170000
DTSTAMP:20260422T195843
CREATED:20200307T211624Z
LAST-MODIFIED:20211203T034808Z
UID:9377-1588233600-1588525200@guncalendars.com
SUMMARY:Girl & A Gun Annual Training Conference 2022 - 10th Annual
DESCRIPTION:April 28 – May 1\, 2022  \nGrand Junction\, CO \nCameo Shooting and Education Complex \nA Girl & A Gun is a club by women shooters for women shooters. Through our network of caring and qualified instructors\, events\, clinics\, and training opportunities\, we offer women the ability to improve their marksmanship and make new friend
URL:https://guncalendars.com/event/girl-a-gun-annual-training-conference-4/
CATEGORIES:2A Event / Rally,Shooting Event
ATTACH;FMTTYPE=image/png:https://guncalendars.com/wp-content/uploads/2020/03/A-Girl-and-Gun-2022.png
END:VEVENT
END:VCALENDAR