BEGIN:VCALENDAR
VERSION:2.0
PRODID:-//Gun Calendars - ECPv6.6.2//NONSGML v1.0//EN
CALSCALE:GREGORIAN
METHOD:PUBLISH
X-WR-CALNAME:Gun Calendars
X-ORIGINAL-URL:https://guncalendars.com
X-WR-CALDESC:Events for Gun Calendars
REFRESH-INTERVAL;VALUE=DURATION:PT1H
X-Robots-Tag:noindex
X-PUBLISHED-TTL:PT1H
BEGIN:VTIMEZONE
TZID:UTC
BEGIN:STANDARD
TZOFFSETFROM:+0000
TZOFFSETTO:+0000
TZNAME:UTC
DTSTART:20240101T000000
END:STANDARD
END:VTIMEZONE
BEGIN:VEVENT
DTSTART;VALUE=DATE:20240810
DTEND;VALUE=DATE:20240811
DTSTAMP:20260421T111251
CREATED:20190731T141344Z
LAST-MODIFIED:20220805T094209Z
UID:9766-1723248000-1723334399@guncalendars.com
SUMMARY:Harlon Carter (born)
DESCRIPTION:Harlon Carter – Born \n\nHarlon Carter\nPosted on August 10\, 1913\n\n\n(August 10\, 1913 – November 19\, 1991)\n– 1951 joined the National Board of the NRA\n– 1965-1967 served as NRA president from\n– 1975-1976 served as director of the NRA’s lobbying arm\n– 1977-1985 served as NRA Executive Vice President\nCarter replaced Maxwell Rich as Executive Vice President\n– https://en.wikipedia.org/wiki/Harlon_Carter \n\nHarlon Carter
URL:https://guncalendars.com/event/harlon-carter-born-3-3/
CATEGORIES:2A Activist
ATTACH;FMTTYPE=image/jpeg:https://guncalendars.com/wp-content/uploads/2019/07/2A-Activists-Group-Color-Harlon-Carter.jpg
END:VEVENT
BEGIN:VEVENT
DTSTART;VALUE=DATE:20240824
DTEND;VALUE=DATE:20240825
DTSTAMP:20260421T111251
CREATED:20220831T021657Z
LAST-MODIFIED:20220831T022635Z
UID:9856-1724457600-1724543999@guncalendars.com
SUMMARY:Dave Kopp passed (56)
DESCRIPTION:The Arizona Citizens Defense League sadly announces the passing of its founding President and chief lobbyist\, Dave Kopp. Dave succumbed to a 12-year battle with cancer on Wednesday\, August 24th. \nDespite his ongoing illness\, Dave worked tirelessly in the trenches of managing an organization and leading the charge at the Legislature\, protecting our freedom. In a profile in courage\, he kept his illness private so as not to have his struggle interfere with that for freedom. \nHe had resigned as president several months ago and was the President Emeritus on the Board. Dave selected Michael Gibbs as President\, and Cheryl Todd as Vice-President\, and the Board agreed. Dave was also a founding member of the AzCDL Foundation\, and he was extremely proud of the work the Foundation has done to bring FASTER Saves Lives to Arizona. \nHis passing will neither diminish the AzCDL mission\, nor the passion for our rights. His spirit runs deeply through the organization. We await further news from the family as to any services for Dave \n 
URL:https://guncalendars.com/event/dave-kopp-passed-56-3/
CATEGORIES:2A Activist
ATTACH;FMTTYPE=image/png:https://guncalendars.com/wp-content/uploads/2022/08/hhhh-jjj.png
END:VEVENT
END:VCALENDAR